BEGIN:VCALENDAR
VERSION:2.0
PRODID:-//ChamberMaster//Event Calendar 2.0//EN
METHOD:PUBLISH
X-PUBLISHED-TTL:P3D
REFRESH-INTERVAL:P3D
CALSCALE:GREGORIAN
BEGIN:VEVENT
DTSTART:20250814T150000Z
DTEND:20250814T163000Z
X-MICROSOFT-CDO-ALLDAYEVENT:FALSE
SUMMARY:Orientación sobre su negocio y Prospera
DESCRIPTION:Obtenga informaci n b sica sobre c mo comenzar un negocio de forma correcta y exitosa.\n\n\n\nAprender  sobre:\n\n\n\n  Licencias\n\n  Requisitos del estado\n\n  Opciones de financiamiento\n\n  C mo Prospera le puede proveer asistencia para comenzar o expandir su negocio
X-ALT-DESC;FMTTYPE=text/html:Obtenga informaci&oacute\;n b&aacute\;sica sobre c&oacute\;mo comenzar un negocio de forma correcta y exitosa.<br />\n<br />\nAprender&aacute\; sobre:<br />\n<br />\n&bull\; Licencias<br />\n&bull\; Requisitos del estado<br />\n&bull\; Opciones de financiamiento<br />\n&bull\; C&oacute\;mo Prospera le puede proveer asistencia para comenzar o expandir su negocio
LOCATION:Seminole State College - Heathrow Campus 1055 AAA Dr Heathrow Fl 32746
UID:e.2138.37698
SEQUENCE:3
DTSTAMP:20260423T084845Z
URL:https://business.seminolebusiness.org/events/details/orientaci&#243;n-sobre-su-negocio-y-prospera-08-14-2025-37698
END:VEVENT

END:VCALENDAR
