BEGIN:VCALENDAR
VERSION:2.0
PRODID:-//ChamberMaster//Event Calendar 2.0//EN
METHOD:PUBLISH
X-PUBLISHED-TTL:P3D
REFRESH-INTERVAL:P3D
CALSCALE:GREGORIAN
BEGIN:VEVENT
DTSTART:20180224T000000Z
DTEND:20180224T030000Z
X-MICROSOFT-CDO-ALLDAYEVENT:FALSE
SUMMARY:Orlando City Foundation's Soccer Ball
DESCRIPTION:Celebrate the kickoff to soccer in Orlando and experience soccer culture from around the world at the inaugural Soccer Ball presented by Orlando Health with all proceeds benefiting the Orlando City Foundation. This new and exciting event will bring the traveling to you\, featuring all-you-can-eat tapas style food\, and bottomless cocktails from around the world.\n\n\n	Meet the 2018 Orlando City and Orlando Pride players\n	Enjoy multicultural entertainment\n	Bid on silent and live auction items for a great cause\n	Dance\, eat\, and drink the night away
X-ALT-DESC;FMTTYPE=text/html:<p>Celebrate the kickoff to soccer in Orlando and experience soccer culture from around the world at the inaugural Soccer Ball presented by Orlando Health with all proceeds benefiting the Orlando City Foundation. This new and exciting event will bring the traveling to you\, featuring all-you-can-eat tapas style food\, and bottomless cocktails from around the world.</p>\n\n<ul>\n	<li>Meet the 2018 Orlando City and Orlando Pride players</li>\n	<li>Enjoy multicultural entertainment</li>\n	<li>Bid on silent and live auction items for a great cause</li>\n	<li>Dance\, eat\, and drink the night away</li>\n</ul>\n
LOCATION:Hyatt Regency Orlando
UID:e.2138.8638
SEQUENCE:3
DTSTAMP:20260424T113518Z
URL:https://business.seminolebusiness.org/events/details/orlando-city-foundation-s-the-soccer-ball-8638
END:VEVENT

END:VCALENDAR
