BEGIN:VCALENDAR
VERSION:2.0
PRODID:-//ChamberMaster//Event Calendar 2.0//EN
METHOD:PUBLISH
X-PUBLISHED-TTL:P3D
REFRESH-INTERVAL:P3D
CALSCALE:GREGORIAN
BEGIN:VEVENT
DTSTART:20160303T200000Z
DTEND:20160304T020000Z
X-MICROSOFT-CDO-ALLDAYEVENT:FALSE
SUMMARY:Orlando City Pub Crawl
DESCRIPTION:What's the best way to kickoff our 2nd season  the Orlando City Pub Crawl in Downtown Orlando! Put on your purple and head downtown for the Orlando City Pub Crawl featuring street parties at the official City Pubs: Harry Buffalo\, Elixir and Wall Street Plaza.\n\n \n\nEach registration includes 3 complimentary drinks\, admission into each venue\, a live concert with Ballyhoo! and 1 ticket to the opening match on Sunday\, March 6.
X-ALT-DESC;FMTTYPE=text/html:<span style="font-size:10.0pt">What&rsquo\;s the best way to kickoff our 2nd season&hellip\; the Orlando City Pub Crawl in Downtown Orlando! Put on your purple and head downtown for the Orlando City Pub Crawl featuring street parties at the official City Pubs: Harry Buffalo\, Elixir and Wall Street Plaza.</span><br />\n&nbsp\;<br />\n<span style="font-size:10.0pt">Each registration includes 3 complimentary drinks\, admission into each venue\, a live concert with Ballyhoo! and 1 ticket to the opening match on Sunday\, March 6.</span>
LOCATION:Official City Pubs: Harry Buffalo\, Elixir and Wall Street Plaza.
UID:e.2138.4350
SEQUENCE:3
DTSTAMP:20260426T031306Z
URL:https://business.seminolebusiness.org/events/details/orlando-city-pub-crawl-03-03-2016-4350
END:VEVENT

END:VCALENDAR
