BEGIN:VCALENDAR
VERSION:2.0
PRODID:-//ChamberMaster//Event Calendar 2.0//EN
METHOD:PUBLISH
X-PUBLISHED-TTL:P3D
REFRESH-INTERVAL:P3D
CALSCALE:GREGORIAN
BEGIN:VEVENT
DTSTART:20170304T210000Z
DTEND:20170305T020000Z
X-MICROSOFT-CDO-ALLDAYEVENT:FALSE
SUMMARY:Orlando City Pub Crawl
DESCRIPTION:Put on your purple and join a few thousand of your fellow City fans as we crawl from Orlando City Stadium\, where you will get to party in the stadium concourse and lookout over the pitch\, then continue onto our City Pubs\, Elixir and Wall St. Plaza. Each participant will get three drinks and a ticket to a select Orlando City match during the 2017 MLS season.
X-ALT-DESC;FMTTYPE=text/html:<span style="color:rgb(0\, 0\, 0)\; font-family:arial\; font-size:14.6667px">Put on your purple and join a few thousand of your fellow City fans as we crawl from Orlando City Stadium\, where you will get to party in the stadium concourse and lookout over the pitch\, then continue onto our City Pubs\, Elixir and Wall St. Plaza. Each participant will get three drinks and a ticket to a select Orlando City match during the 2017 MLS season.</span>
LOCATION:Orlando City Stadium 655 W. Church Street Orlando\, FL 32805
UID:e.2138.6438
SEQUENCE:3
DTSTAMP:20260423T175004Z
URL:https://business.seminolebusiness.org/events/details/orlando-city-pub-crawl-6438
END:VEVENT

END:VCALENDAR
