BEGIN:VCALENDAR
VERSION:2.0
PRODID:-//ChamberMaster//Event Calendar 2.0//EN
METHOD:PUBLISH
X-PUBLISHED-TTL:P3D
REFRESH-INTERVAL:P3D
CALSCALE:GREGORIAN
BEGIN:VEVENT
DTSTART:20170225T140000Z
DTEND:20170225T180000Z
X-MICROSOFT-CDO-ALLDAYEVENT:FALSE
SUMMARY:Orlando City Stadium House Party
DESCRIPTION:You are invited to tour the Stadium during our House Party\, an Open House - Orlando City style. Check out the pitch and views from various seating locations. Tour the locker room and premium spaces. Taste the food and peruse the Team Shop. Activities throughout the day will include player autographs\, photo opportunities\, culinary demonstrations\, tailgate games\, music and more.
X-ALT-DESC;FMTTYPE=text/html:<p><span style="color:rgb(0\, 0\, 0)\; font-family:arial\; font-size:14.6667px">You are invited to tour the Stadium during our House Party\, an Open House - Orlando City style. Check out the pitch and views from various seating locations. Tour the locker room and premium spaces. Taste the food and peruse the Team Shop. Activities throughout the day will include player autographs\, photo opportunities\, culinary demonstrations\, tailgate games\, music and more.</span></p>\n\n<div>&nbsp\;</div>\n
LOCATION:Orlando City Stadium 655 W. Church Street Orlando\, FL 32805
UID:e.2138.6436
SEQUENCE:3
DTSTAMP:20260423T161940Z
URL:https://business.seminolebusiness.org/events/details/orlando-city-stadium-house-party-6436
END:VEVENT

END:VCALENDAR
