BEGIN:VCALENDAR
VERSION:2.0
PRODID:-//ChamberMaster//Event Calendar 2.0//EN
METHOD:PUBLISH
X-PUBLISHED-TTL:P3D
REFRESH-INTERVAL:P3D
CALSCALE:GREGORIAN
BEGIN:VEVENT
DTSTART:20160301T220000Z
DTEND:20160302T000000Z
X-MICROSOFT-CDO-ALLDAYEVENT:FALSE
SUMMARY:Orlando City Tailgate with CFHLA
DESCRIPTION:Join us for an Orlando City tailgate party\, in partnership with the Central Florida Hotel & Lodging Association\, at the Cheyenne Saloon in Downtown Orlando. The party includes player appearances\, tailgate food\, beer and your favorite tailgate games.\n\n\n\nEach registration includes food\, 2 drink tickets and 1 ticket to the 2016 opening match on Sunday\, March 6th.
X-ALT-DESC;FMTTYPE=text/html:<span style="font-family:calibri\,sans-serif"><span style="font-size:10.0pt">Join us for an Orlando City tailgate party\, in partnership with the Central Florida Hotel &amp\; Lodging Association\, at the Cheyenne Saloon in Downtown Orlando. The party includes player appearances\, tailgate food\, beer and your favorite tailgate games.</span></span><br />\n<br />\n<span style="font-size:10.0pt">Each registration includes food\, 2 drink tickets and 1 ticket to the 2016 opening match on Sunday\, March 6th.</span><br />\n&nbsp\;
LOCATION:Cheyenne Saloon\, 120 W Church St\, Orlando\, FL 32801
UID:e.2138.4348
SEQUENCE:3
DTSTAMP:20260426T031306Z
URL:https://business.seminolebusiness.org/events/details/orlando-city-tailgate-with-cfhla-03-01-2016-4348
END:VEVENT

END:VCALENDAR
