BEGIN:VCALENDAR
VERSION:2.0
PRODID:-//ChamberMaster//Event Calendar 2.0//EN
METHOD:PUBLISH
X-PUBLISHED-TTL:P3D
REFRESH-INTERVAL:P3D
CALSCALE:GREGORIAN
BEGIN:VEVENT
DTSTART:20190813T210000Z
DTEND:20190813T220000Z
X-MICROSOFT-CDO-ALLDAYEVENT:FALSE
SUMMARY:Orlando Federal Credit Union's Grand Opening Event
DESCRIPTION:Orlando Federal Credit Union invites you to come celebrate with us! Please join us for the grand re-opening of our City Hall branch\, where we have introduced some exciting new technologies and a BRAND new look! Come enjoy hors d'oeuvres\, beer\, and wine while meeting our new interactive teller machine\, Telly. You may also enter to win a $250 gift certificate to Dr. Phillips Center for Performing Arts.
X-ALT-DESC;FMTTYPE=text/html:<span style="color:#000000"><span style="font-family:arial\,helvetica\,sans-serif\; font-size:small">Orlando Federal Credit Union</span><span style="font-family:arial\,helvetica\,sans-serif\; font-size:small">&nbsp\;invite</span><span style="font-family:arial\,helvetica\,sans-serif\; font-size:small">s</span><span style="font-family:arial\,helvetica\,sans-serif\; font-size:small">&nbsp\;you to come celebrate with us! Please join us for the grand re-opening of our City Hall branch\, where we have introduced some exciting new technologies and a BRAND new look! Come enjoy hors d&#39\;oeuvres\, beer\, and wine while meeting our new interactive teller machine\, Telly. You&nbsp\;</span><span style="font-family:arial\,helvetica\,sans-serif\; font-size:small">may</span><span style="font-family:arial\,helvetica\,sans-serif\; font-size:small">&nbsp\;also&nbsp\;</span><span style="font-family:arial\,helvetica\,sans-serif\; font-size:small">enter</span><span style="font-family:arial\,helvetica\,sans-serif\; font-size:small">&nbsp\;to win a $250 gift certificate to Dr. Phillips Center for Performing Arts.</span></span>
LOCATION:Orlando Federal Credit Union 400 S. Orange Ave Orlando\, FL 32801
UID:e.2138.16250
SEQUENCE:3
DTSTAMP:20260422T034920Z
URL:https://business.seminolebusiness.org/events/details/orlando-federal-credit-union-s-grand-opening-event-16250
END:VEVENT

END:VCALENDAR
