BEGIN:VCALENDAR
VERSION:2.0
PRODID:-//ChamberMaster//Event Calendar 2.0//EN
METHOD:PUBLISH
X-PUBLISHED-TTL:P3D
REFRESH-INTERVAL:P3D
CALSCALE:GREGORIAN
BEGIN:VEVENT
DTSTART;VALUE=DATE:20170607
DTEND;VALUE=DATE:20170608
TRANSP:TRANSPARENT
X-MICROSOFT-CDO-ALLDAYEVENT:TRUE
SUMMARY:Orlando Health: Future Emergency Room and Medical Pavilion Community Open House
DESCRIPTION:Orlando Health\, in collaboration with the Lake Mary community\, is pleased to share the plans for a future stand-alone emergency room and medical pavilion on the northwest corner of Manderley Run and Rinehart Road. We invite you to come meet the team involved and learn about the project.
X-ALT-DESC;FMTTYPE=text/html:Orlando Health\, in collaboration with the Lake Mary community\, is pleased to share the plans for a future stand-alone emergency room and medical pavilion on the northwest corner of Manderley Run and Rinehart Road. We invite you to come meet the team involved and learn about the project.
LOCATION:Lake Mary Events Center 260 N. Country Club Road\, Lake Mary\, FL 32746
UID:e.2138.6966
SEQUENCE:3
DTSTAMP:20260423T223619Z
URL:https://business.seminolebusiness.org/events/details/orlando-health-future-emergency-room-and-medical-pavilion-community-open-house-06-07-2017-6966
END:VEVENT

END:VCALENDAR
