BEGIN:VCALENDAR
VERSION:2.0
PRODID:-//ChamberMaster//Event Calendar 2.0//EN
METHOD:PUBLISH
X-PUBLISHED-TTL:P3D
REFRESH-INTERVAL:P3D
CALSCALE:GREGORIAN
BEGIN:VEVENT
DTSTART:20161012T153000Z
DTEND:20161012T173000Z
X-MICROSOFT-CDO-ALLDAYEVENT:FALSE
SUMMARY:Orlando North Seminole County 2016 Annual Tourism Luncheon
DESCRIPTION:Orlando North Seminole County is proud to present the 2016 Annual Tourism Luncheon. Please join us on Wednesday\, October 12\, 2016 to celebrate the business of tourism.\n\nReserve your seat now!\n\n\n\n11:30 am to 12:00 pm:  Registration and Networking\n\n12:00 pm to 1:30 pm:  Lunch\, Tourism Year-In-Review\, Awards\n\n\n\n* Pre-Registration: This is a plated event that requires pre-registration for attendance. We will be unable to accommodate walk-in guests. Thank you for your understanding.\n\n\n\nGIVING BACK\n\nOnce again\, Orlando North\, Seminole County Tourism has joined with the Central Florida Hotel and Lodging Association to host a collection drive to benefit homeless students in Seminole County. The items collected include toiletries and school supplies.\n\n\n\nPlease go to www.cfhla.org/cfhla-cares for more information.\n\n\n\n*Please note: Seminole County Schools can no longer accept food donations.
X-ALT-DESC;FMTTYPE=text/html:<span style="color:#515151\;"><span style="font-family:helvetica\,sans-serif\;"><span style="font-size:10.0pt\;">Orlando North Seminole County is proud to present the 2016&nbsp\;Annual Tourism Luncheon. Please join us on Wednesday\, October 12\, 2016 to celebrate the business of tourism.</span></span></span><br />\n<span style="color:#515151\;"><span style="font-family:helvetica\,sans-serif\;"><span style="font-size:10.0pt\;">Reserve your seat now!</span></span></span><br />\n<br />\n<span style="color:#515151\;"><span style="font-family:helvetica\,sans-serif\;"><span style="font-size:10.0pt\;">11:30&nbsp\;am to 12:00 pm: &nbsp\;Registration and Networking</span></span></span><br />\n<span style="color:#515151\;"><span style="font-family:helvetica\,sans-serif\;"><span style="font-size:10.0pt\;">12:00 pm to 1:30&nbsp\;pm: &nbsp\;Lunch\, Tourism Year-In-Review\, Awards</span></span></span><br />\n<br />\n<span style="color: rgb(81\, 81\, 81)\; font-family: helvetica\, sans-serif\; font-size: 13.3333px\;">*&#8203\;Pre-Registration: This is a plated event that requires pre-registration for attendance. We will be unable to accommodate walk-in guests. Thank you for your understanding.</span><br />\n<br />\n<strong><em><span style="color:#515151\;">GIVING BACK</span></em></strong><br />\n<span style="color:#515151\;">Once again\, Orlando North\, Seminole County Tourism&nbsp\;has joined with the Central Florida Hotel and Lodging Association to host a collection drive to benefit homeless students in Seminole County. The items collected include toiletries and school supplies.<br />\n<br />\n<strong>Please go to <a href="http://www.cfhla.org/cfhla-cares" target="_blank"><span style="text-decoration:none\;text-underline:none\;"><span style="color:#0F90BA\;">www.cfhla.org/cfhla-cares</span></span></a> for more information.</strong><br />\n<br />\n<em>*Please note: Seminole County Schools can no longer accept food donations.</em></span>
LOCATION:Orlando Marriott Lake Mary 1501 International Parkway Lake Mary\, FL 32746
UID:e.2138.4897
SEQUENCE:3
DTSTAMP:20260425T165027Z
URL:https://business.seminolebusiness.org/events/details/orlando-north-seminole-county-2016-annual-tourism-luncheon-4897
END:VEVENT

END:VCALENDAR
