BEGIN:VCALENDAR
VERSION:2.0
PRODID:-//ChamberMaster//Event Calendar 2.0//EN
METHOD:PUBLISH
X-PUBLISHED-TTL:P3D
REFRESH-INTERVAL:P3D
CALSCALE:GREGORIAN
BEGIN:VEVENT
DTSTART:20180825T130000Z
DTEND:20180825T170000Z
X-MICROSOFT-CDO-ALLDAYEVENT:FALSE
SUMMARY:3rd Annual Family Fitness Fest
DESCRIPTION:FREE EVENT!!! \n\nPLEASE NOTE THE NEW DATE AND NEW LOCATION!!\n\nJoin Us for Central Florida's Largest Saturday Morning Workout at Orlando Orthopaedic Center Foundation's Family Fitness Fest!!
X-ALT-DESC;FMTTYPE=text/html:<strong>FREE EVENT!!!&nbsp\;<br />\nPLEASE NOTE THE NEW DATE AND NEW LOCATION!!<br />\nJoin Us for Central Florida&#39\;s Largest Saturday Morning Workout at </strong><strong>Orlando Orthopaedic Center Foundation&#39\;s Family Fitness Fest!! </strong>
LOCATION:Sanford Civic Center 401 E Seminole Blvd Sanford\, FL 32771 PLEASE NOTE THE NEW DATE AND NEW LOCATION!!
UID:e.2138.9468
SEQUENCE:3
DTSTAMP:20260424T053217Z
URL:https://business.seminolebusiness.org/events/details/orlando-orthopaedic-foundation-family-fitness-fest-9468
END:VEVENT

END:VCALENDAR
