BEGIN:VCALENDAR
VERSION:2.0
PRODID:-//ChamberMaster//Event Calendar 2.0//EN
METHOD:PUBLISH
X-PUBLISHED-TTL:P3D
REFRESH-INTERVAL:P3D
CALSCALE:GREGORIAN
BEGIN:VEVENT
DTSTART:20180426T160000Z
DTEND:20180426T170000Z
X-MICROSOFT-CDO-ALLDAYEVENT:FALSE
SUMMARY:Our Digital Compliance Series: Website Accessibility (Part 2)
DESCRIPTION:Attorneys Eric C. Boughman and Charles W. "Skip" Sell discuss website accessibility requirements imposed by the Americans with Disability Act (ADA). The webinar will focus significantly on lessons learned from the first reported lawsuit to trial\, where a supermarket giant whose website was not equally accessible was found to have violated the ADA. Businesses and public entities are required  to make "reasonable accommodations" to meet the needs of individuals with disabilities. This applies to websites and includes compatibility with screen reading and speech recognition software\, as well as\, captioning for videos and multi-media presentations. Businesses with public-facing websites\, marketing and website development companies\, and disabled plaintiffs will all find value in the information provided. Don't miss this second part in our series on internet compliance. Questions and audience participation are always welcome!
X-ALT-DESC;FMTTYPE=text/html:<span style="font-family: lato-regular\,helveticaneuew01-55roma\,helvetica neue\,helvetica\,arial\,sans-serif\; font-size: 14px\;">Attorneys Eric C. Boughman and Charles W. &ldquo\;Skip&rdquo\; Sell discuss website accessibility requirements imposed by the Americans with Disability Act (ADA). The webinar will focus significantly on lessons learned from the first reported lawsuit to trial\, where a supermarket giant whose website was not equally accessible was found to have violated the ADA. Businesses and public entities are required</span><span style="font-family: lato-regular\,helveticaneuew01-55roma\,helvetica neue\,helvetica\,arial\,sans-serif\; font-size: 14px\;"> </span><span style="font-family: lato-regular\,helveticaneuew01-55roma\,helvetica neue\,helvetica\,arial\,sans-serif\; font-size: 14px\;"> to make &quot\;reasonable accommodations&quot\; to meet the needs of individuals with disabilities. This applies to websites and includes compatibility with screen reading and speech recognition software\, as well as\, captioning for videos and multi-media presentations. Businesses with public-facing websites\, marketing and website development companies\, and disabled plaintiffs will all find value in the information provided. Don&rsquo\;t miss this second part in our series on internet compliance. Questions and audience participation are always welcome! </span>
LOCATION:Webinar - Registration Link: https://register.gotowebinar.com/register/7793614784927873282
UID:e.2138.8830
SEQUENCE:3
DTSTAMP:20260424T120124Z
URL:https://business.seminolebusiness.org/events/details/our-digital-compliance-series-website-accessibility-part-2-8830
END:VEVENT

END:VCALENDAR
