BEGIN:VCALENDAR
VERSION:2.0
PRODID:-//ChamberMaster//Event Calendar 2.0//EN
METHOD:PUBLISH
X-PUBLISHED-TTL:P3D
REFRESH-INTERVAL:P3D
CALSCALE:GREGORIAN
BEGIN:VEVENT
DTSTART:20250928T003000Z
DTEND:20250928T050000Z
X-MICROSOFT-CDO-ALLDAYEVENT:FALSE
SUMMARY:OUT: Only Us Tonight — A Night Out Talent Show at the Sanford Galleon
DESCRIPTION:OUT: Only Us Tonight   A Night Out Like No Other\n\nSaturday\, September 27 | 8:30 PM   1:00 AM\n\nSanford\, Florida   Prepare for a night of pure energy\, unforgettable vibes\, and electrifying performances at OUT: Only Us Tonight\, a one-night-only pop-up experience happening Saturday\, September 27th from 8:30 PM to 1:00 AM.\n\nThis immersive evening brings together the best of nightlife and live entertainment in one unmissable event. Attendees can expect a carefully curated mix of live singers\, dynamic dance performances\, and a jaw-dropping fire show that will ignite the night.\n\nWhether you're coming to dance\, connect\, or just soak in the atmosphere\, OUT is your invitation to let loose and live fully because tonight\, it's Only Us.\n\nEvent Highlights:\n\n         Live vocal performances throughout the night\n\n         High-energy dance showcases\n\n         Captivating fire show spectacle\n\n         Pop-up nightlife experience in a unique venue\n\nLocation: \n\nTime: 8:30 PM   1:00 AM\n\nTickets: $15 entry (cash\, cashapp\, or Venmo!\n\nFollow us for updates\, sneak peeks\, and behind-the-scenes content:\n\n?? Instagram: @O.U.T.onlyustonight\n\n\n\nhttps://www.instagram.com/o.u.t.onlyustonight?igsh=MXVxYjU1a3h1Z3k0OQ==\n\n\n\nhttps://www.instagram.com/sanfordgalleonfl?igsh=MWZ4ZWt1MHYxNXVnMA==\n\n\n\n?? Facebook: \n\n\n\nhttps://www.facebook.com/share/1DQcXdcy4M/?mibextid=wwXIfr\n\n\n\nhttps://www.facebook.com/share/1E4J8ar5Ar/?mibextid=wwXIfr\n\n\n\nOUT: Only Us Tonight   Let the night take over. You in?
X-ALT-DESC;FMTTYPE=text/html:OUT: Only Us Tonight &mdash\; A Night Out Like No Other<br />\nSaturday\, September 27 | 8:30 PM &ndash\; 1:00 AM<br />\nSanford\, Florida &mdash\; Prepare for a night of pure energy\, unforgettable vibes\, and electrifying performances at OUT: Only Us Tonight\, a one-night-only pop-up experience happening Saturday\, September 27th from 8:30 PM to 1:00 AM.<br />\nThis immersive evening brings together the best of nightlife and live entertainment in one unmissable event. Attendees can expect a carefully curated mix of live singers\, dynamic dance performances\, and a jaw-dropping fire show that will ignite the night.<br />\nWhether you&#39\;re coming to dance\, connect\, or just soak in the atmosphere\, OUT is your invitation to let loose and live fully&mdash\;because tonight\, it&rsquo\;s Only Us.<br />\nEvent Highlights:<br />\n&nbsp\; &nbsp\; &bull\;&nbsp\; &nbsp\; Live vocal performances throughout the night<br />\n&nbsp\; &nbsp\; &bull\;&nbsp\; &nbsp\; High-energy dance showcases<br />\n&nbsp\; &nbsp\; &bull\;&nbsp\; &nbsp\; Captivating fire show spectacle<br />\n&nbsp\; &nbsp\; &bull\;&nbsp\; &nbsp\; Pop-up nightlife experience in a unique venue<br />\nLocation:&nbsp\;<br />\nTime: 8:30 PM &ndash\; 1:00 AM<br />\nTickets: $15 entry (cash\, cashapp\, or Venmo!<br />\nFollow us for updates\, sneak peeks\, and behind-the-scenes content:<br />\n?? Instagram: @O.U.T.onlyustonight<br />\n<br />\nhttps://www.instagram.com/o.u.t.onlyustonight?igsh=MXVxYjU1a3h1Z3k0OQ==<br />\n<br />\nhttps://www.instagram.com/sanfordgalleonfl?igsh=MWZ4ZWt1MHYxNXVnMA==<br />\n<br />\n?? Facebook:&nbsp\;<br />\n<br />\nhttps://www.facebook.com/share/1DQcXdcy4M/?mibextid=wwXIfr<br />\n<br />\nhttps://www.facebook.com/share/1E4J8ar5Ar/?mibextid=wwXIfr<br />\n<br />\nOUT: Only Us Tonight &mdash\; Let the night take over. You in?
LOCATION:
UID:e.2138.38762
SEQUENCE:3
DTSTAMP:20260423T072216Z
URL:https://business.seminolebusiness.org/events/details/out-only-us-tonight-a-night-out-talent-show-38762
END:VEVENT

END:VCALENDAR
