BEGIN:VCALENDAR
VERSION:2.0
PRODID:-//ChamberMaster//Event Calendar 2.0//EN
METHOD:PUBLISH
X-PUBLISHED-TTL:P3D
REFRESH-INTERVAL:P3D
CALSCALE:GREGORIAN
BEGIN:VEVENT
DTSTART:20251011T180000Z
DTEND:20251011T200000Z
X-MICROSOFT-CDO-ALLDAYEVENT:FALSE
SUMMARY:Oviedo Bowling Center Trunk or Treat
DESCRIPTION:Oviedo Bowling Center is hosting a Trunk or Treat for all ages! Come out for some free candy & stay for glow bowling! Don't forget to dress to impress!! If you would like to be a vendor and host a trunk e-mail: enobels@oviedobowlingcenter.com or text 407-473-0652
X-ALT-DESC;FMTTYPE=text/html:Oviedo Bowling Center is hosting a Trunk or Treat for all ages! Come out for some free candy &amp\; stay for glow bowling! Don&#39\;t forget to dress to impress!! If you would like to be a vendor and host a trunk e-mail: enobels@oviedobowlingcenter.com or text 407-473-0652
LOCATION:376 E Broadway Street Oviedo Florida 32765
UID:e.2138.38742
SEQUENCE:3
DTSTAMP:20260423T053949Z
URL:https://business.seminolebusiness.org/events/details/oviedo-bowling-center-trunk-or-treat-38742
END:VEVENT

END:VCALENDAR
