BEGIN:VCALENDAR
VERSION:2.0
PRODID:-//ChamberMaster//Event Calendar 2.0//EN
METHOD:PUBLISH
X-PUBLISHED-TTL:P3D
REFRESH-INTERVAL:P3D
CALSCALE:GREGORIAN
BEGIN:VEVENT
DTSTART:20170616T140000Z
DTEND:20170616T160000Z
X-MICROSOFT-CDO-ALLDAYEVENT:FALSE
SUMMARY:Paint With A Hero
DESCRIPTION:FREE event for kids of all ages!  Stop in at Painting With A Twist Lake Mary anytime between 10am-Noon to paint a mini canvas with our artists as well as a local Fire Fighter and Police Officer!  Tour the fire truck and police car\, enter our raffle contest\, paint your canvas and HAVE FUN!
X-ALT-DESC;FMTTYPE=text/html:FREE event for kids of all ages! &nbsp\;Stop in at Painting With A Twist Lake Mary anytime between 10am-Noon to paint a mini canvas with our artists as well as a local Fire Fighter and Police Officer! &nbsp\;Tour the fire truck and police car\, enter our raffle contest\, paint your canvas and HAVE FUN!
LOCATION:Painting With A Twist Lake Mary 101 N Country Club Rd Ste 130 Lake Mary\, FL 32746
UID:e.2138.7577
SEQUENCE:3
DTSTAMP:20260423T223059Z
URL:https://business.seminolebusiness.org/events/details/paint-with-a-hero-7577
END:VEVENT

END:VCALENDAR
