BEGIN:VCALENDAR
VERSION:2.0
PRODID:-//ChamberMaster//Event Calendar 2.0//EN
METHOD:PUBLISH
X-PUBLISHED-TTL:P3D
REFRESH-INTERVAL:P3D
CALSCALE:GREGORIAN
BEGIN:VEVENT
DTSTART:20170103T223000Z
DTEND:20170104T020000Z
X-MICROSOFT-CDO-ALLDAYEVENT:FALSE
SUMMARY:Painting with a Twist\, Lake Mary Grand Opening
DESCRIPTION:Join us for the Grand Opening of Painting with a Twist!!  We are holding a celebration to announce our arrival to the Lake Mary community.  Our open house begins at 5:30 and at 7:00 we'll be offering a complimentary painting class.  The first 46 people to reserve will be guaranteed a spot and an opportunity to create their very own "Zen Tree" masterpiece with the help of one of our artists.
X-ALT-DESC;FMTTYPE=text/html:Join us for the Grand Opening of Painting with a Twist!!&nbsp\; We are holding a celebration to announce our arrival to the Lake Mary community.&nbsp\; Our open house begins at 5:30 and at 7:00 we&#39\;ll be offering a complimentary painting class.&nbsp\; The first 46 people to reserve will be guaranteed a spot and an opportunity to create their very own &quot\;Zen Tree&quot\;&nbsp\;masterpiece with the help of one of our artists.&nbsp\;
LOCATION:Our address is 101 N. Country Club Rd.\, Suite 130 in Lake Mary. We're located at the corner of N. Country Club Rd. and Lake Mary Blvd right next to the Sunrail station.
UID:e.2138.6408
SEQUENCE:3
DTSTAMP:20260423T144932Z
URL:https://business.seminolebusiness.org/events/details/painting-with-a-twist-lake-mary-grand-opening-6408
END:VEVENT

END:VCALENDAR
