BEGIN:VCALENDAR
VERSION:2.0
PRODID:-//ChamberMaster//Event Calendar 2.0//EN
METHOD:PUBLISH
X-PUBLISHED-TTL:P3D
REFRESH-INTERVAL:P3D
CALSCALE:GREGORIAN
BEGIN:VEVENT
DTSTART:20170223T223000Z
DTEND:20170224T010000Z
X-MICROSOFT-CDO-ALLDAYEVENT:FALSE
SUMMARY:Pampering Party!
DESCRIPTION:Palmer Natural Health is celebrating our 12th Anniversary as one of Central Florida's largest holistic health care clinics and we're inviting the community to join us for a FUN & Healthy Pampering Party at our location in Historic Longwood.\n\nWe're serving healthy chocolate & snacks\, offering complimentary chair massage & nutrition scans and giving out info about healthy weight loss programs & organic gardening.\n\nSpecial guests include Earth Origins Market and JOCO Botanicals. We're also featuring a special device that can finally eliminate harmful cell phone radiation!
X-ALT-DESC;FMTTYPE=text/html:<p>Palmer Natural Health is celebrating our 12th Anniversary as one of Central Florida&#39\;s largest holistic health care clinics and we&#39\;re inviting the community to join us for a FUN &amp\; Healthy Pampering Party at our location in Historic Longwood.</p>\n\n<p>We&#39\;re serving healthy chocolate &amp\; snacks\, offering complimentary chair massage &amp\; nutrition scans and giving out info about healthy weight loss programs &amp\; organic gardening.</p>\n\n<p>Special guests include Earth Origins Market and JOCO Botanicals. We&#39\;re also featuring a special device that can finally eliminate harmful cell phone radiation!</p>\n
LOCATION:Palmer Natural Health in Historic Longwood 135 W Pine Ave. Longwood\, FL\, 32750
UID:e.2138.6452
SEQUENCE:3
DTSTAMP:20260423T161432Z
URL:https://business.seminolebusiness.org/events/details/pampering-party-6452
END:VEVENT

END:VCALENDAR
