BEGIN:VCALENDAR
VERSION:2.0
PRODID:-//ChamberMaster//Event Calendar 2.0//EN
METHOD:PUBLISH
X-PUBLISHED-TTL:P3D
REFRESH-INTERVAL:P3D
CALSCALE:GREGORIAN
BEGIN:VEVENT
DTSTART;VALUE=DATE:20181005
DTEND;VALUE=DATE:20181006
TRANSP:TRANSPARENT
X-MICROSOFT-CDO-ALLDAYEVENT:TRUE
SUMMARY:Panera Goes Pink
DESCRIPTION:100% of the proceeds from every Pink Ribbon Bagel sold today will benefit Orlando Health UF Health Cancer Center!\n\n\n\nUse this form to preorder today! Click Here
X-ALT-DESC;FMTTYPE=text/html:&nbsp\;100% of the proceeds from every Pink Ribbon Bagel sold today will benefit Orlando Health UF Health Cancer Center!<br />\n<br />\nUse this form to preorder today! <a href="https://chambermaster.blob.core.windows.net/userfiles/UserFiles/chambers/2138/File/PRBOrderForm2018.pdf"><font color="#0066cc">Click Here</font></a>
LOCATION:Panera Bread Locations in Florida
UID:e.2138.14758
SEQUENCE:3
DTSTAMP:20260424T022820Z
URL:https://business.seminolebusiness.org/events/details/panera-goes-pink-14758
END:VEVENT

END:VCALENDAR
