BEGIN:VCALENDAR
VERSION:2.0
PRODID:-//ChamberMaster//Event Calendar 2.0//EN
METHOD:PUBLISH
X-PUBLISHED-TTL:P3D
REFRESH-INTERVAL:P3D
CALSCALE:GREGORIAN
BEGIN:VEVENT
DTSTART:20170422T140000Z
DTEND:20170422T190000Z
X-MICROSOFT-CDO-ALLDAYEVENT:FALSE
SUMMARY:Party for the Planet (Earth Day Celebration) at the Central Florida Zoo & Botanical Gardens
DESCRIPTION:Celebrate Earth Day at the Central Florida Zoo and be part of the largest combined Earth Day celebration in North America! Help us celebrate our planet's amazing and diverse wildlife through interactive environmental education activities\, amazing animal encounters\, and fun games and crafts for the whole family. Connect to nature and conservation in the community\, and be inspired to become conservation heroes to help protect this beautiful planet.\n\nThis event is included in general Zoo admission\; additional fees may apply for certain activities. Please call 407.323.4450 ext. 100 for more information.
X-ALT-DESC;FMTTYPE=text/html:<span style="font-family:arial narrow\,sans-serif"><span style="font-size:11.0pt">Celebrate Earth Day at the Central Florida Zoo and be part of the largest combined Earth Day celebration in North America! Help us celebrate our planet&rsquo\;s amazing and diverse wildlife through interactive environmental education activities\, amazing animal encounters\, and fun games and crafts for the whole family. Connect to nature and conservation in the community\, and be inspired to become conservation heroes to help protect this beautiful planet.</span></span><br />\n<span style="color:#221E1F"><span style="font-family:arial narrow\,sans-serif"><span style="font-size:11.0pt">This event is included in general Zoo admission\; additional fees may apply for certain activities. Please call 407.323.4450 ext. 100 for more information.</span></span></span>
LOCATION:The Central Florida Zoo and Botanical Gardens 3755 NW Hwy 17-92 Sanford\, FL 32771
UID:e.2138.6432
SEQUENCE:3
DTSTAMP:20260423T194126Z
URL:https://business.seminolebusiness.org/events/details/party-for-the-planet-earth-day-celebration-at-the-central-florida-zoo-botanical-gardens-6432
END:VEVENT

END:VCALENDAR
