BEGIN:VCALENDAR
VERSION:2.0
PRODID:-//ChamberMaster//Event Calendar 2.0//EN
METHOD:PUBLISH
X-PUBLISHED-TTL:P3D
REFRESH-INTERVAL:P3D
CALSCALE:GREGORIAN
BEGIN:VEVENT
DTSTART:20161110T230000Z
DTEND:20161111T020000Z
X-MICROSOFT-CDO-ALLDAYEVENT:FALSE
SUMMARY:Passport to Wellness
DESCRIPTION:For 18 years Tammy Bennett\, DOM at Suma Wellness has strived to provide the best in holistic/integrative care for the Central Florida Community.\n\nJoin her as she gives back to the Community by celebrating new technology and new staff members on this special day.\n\n\n\nEducational Seminars going on during the event: \n\nDr. Jeffrey Mueller:  New advancements in treating heart disease using IV Therapy.\n\nSherrine Richmond\, ARNP: Bio Identical Hormone Therapy for Women.\n\nJanean Hamilton\, DOM/RN: Weight loss using HCG.\n\nAshton Colgan\, Paramedical Aesthetician: New advancements in anti aging skincare.
X-ALT-DESC;FMTTYPE=text/html:<div style="text-align: center\;"><span style="font-family:candara\,sans-serif">For 18 years Tammy Bennett\, DOM at Suma Wellness has strived to provide the best in holistic/integrative care for the Central Florida Community.</span><br />\n<span style="font-family:candara\,sans-serif">Join her as she gives back to the Community by celebrating new technology and new staff members on this special day.<br />\n<br />\nEducational Seminars going on during the event: </span><br />\n<span style="font-family:candara\,sans-serif">Dr. Jeffrey Mueller:&nbsp\; New advancements in treating heart disease using IV Therapy.</span><br />\n<span style="font-family:candara\,sans-serif">Sherrine Richmond\, ARNP: Bio Identical Hormone Therapy for Women.</span><br />\n<span style="font-family:candara\,sans-serif">Janean Hamilton\, DOM/RN: Weight loss using HCG.</span><br />\n<span style="font-family:candara\,sans-serif">Ashton Colgan\, Paramedical Aesthetician: New advancements in anti aging skincare.</span><br />\n&nbsp\;</div>\n
LOCATION:Suma Wellness Center 212 West Bay Ave Longwood\, FL 32750
UID:e.2138.5741
SEQUENCE:3
DTSTAMP:20260425T150317Z
URL:https://business.seminolebusiness.org/events/details/passport-to-wellness-5741
END:VEVENT

END:VCALENDAR
