BEGIN:VCALENDAR
VERSION:2.0
PRODID:-//ChamberMaster//Event Calendar 2.0//EN
METHOD:PUBLISH
X-PUBLISHED-TTL:P3D
REFRESH-INTERVAL:P3D
CALSCALE:GREGORIAN
BEGIN:VEVENT
DTSTART:20180506T111500Z
DTEND:20180506T173000Z
X-MICROSOFT-CDO-ALLDAYEVENT:FALSE
SUMMARY:Pavilion Golf Society Tournament
DESCRIPTION:Come join us for a fantastic day of golf in support of the Orlando Senior Help Desk. There will be a Mimosa breakfast\, Golf Tournament\, Games\, Prizes\, and a Gourmet Lunch!\n\n\n\nThis tournament is in honor of Keith Levitt!
X-ALT-DESC;FMTTYPE=text/html:Come join us for a fantastic day of golf in support of the Orlando Senior Help Desk. There will be a Mimosa breakfast\, Golf Tournament\, Games\, Prizes\, and a Gourmet Lunch!<br />\n<br />\nThis tournament is in honor of Keith Levitt!<br />\n&nbsp\;
LOCATION:Rosen Shingle Creek Hotel in Orlando 9939 Universal Blvd Orlando Fl 32819
UID:e.2138.8785
SEQUENCE:3
DTSTAMP:20260424T102009Z
URL:https://business.seminolebusiness.org/events/details/pavilion-golf-society-tournament-8785
END:VEVENT

END:VCALENDAR
