BEGIN:VCALENDAR
VERSION:2.0
PRODID:-//ChamberMaster//Event Calendar 2.0//EN
METHOD:PUBLISH
X-PUBLISHED-TTL:P3D
REFRESH-INTERVAL:P3D
CALSCALE:GREGORIAN
BEGIN:VEVENT
DTSTART:20190505T113000Z
DTEND:20190505T180000Z
X-MICROSOFT-CDO-ALLDAYEVENT:FALSE
SUMMARY:Pavilion Golf Tournament to benefit the Orlando Seniro Help Desk
DESCRIPTION:Breakfast\, Golf\, Games\, Prizes\, Gourmet Lunch at Shingle Creek
X-ALT-DESC;FMTTYPE=text/html:Breakfast\, Golf\, Games\, Prizes\, Gourmet Lunch at Shingle Creek
LOCATION:Rosen Shingle Creek 9939 Universal Blvd Orlando\, FL 32819
UID:e.2138.14957
SEQUENCE:3
DTSTAMP:20260422T081421Z
URL:https://business.seminolebusiness.org/events/details/pavilion-golf-tournament-to-benefit-the-orlando-seniro-help-desk-14957
END:VEVENT

END:VCALENDAR
