BEGIN:VCALENDAR
VERSION:2.0
PRODID:-//ChamberMaster//Event Calendar 2.0//EN
METHOD:PUBLISH
X-PUBLISHED-TTL:P3D
REFRESH-INTERVAL:P3D
CALSCALE:GREGORIAN
BEGIN:VEVENT
DTSTART:20161110T230000Z
DTEND:20161110T234500Z
X-MICROSOFT-CDO-ALLDAYEVENT:FALSE
SUMMARY:Perfectly Imperfect this Holiday Season
DESCRIPTION:Holidays are sometimes great stress creators. This complimentary workshop will teach you how to deal with the pressure of "getting everything right" (on a deadline)\, dealing with that difficult family member\, and creating your own plan to better enjoy this holiday season.
X-ALT-DESC;FMTTYPE=text/html:Holidays are sometimes great stress creators. This complimentary workshop will teach you how to deal with the pressure of &quot\;getting everything right&quot\; (on a deadline)\, dealing with that difficult family member\, and creating your own plan to better enjoy this holiday season.
LOCATION:Reveille Counseling 3074 W. Lake Mary Blvd\,. Suite 132 Lake Mary\, FL 32746
UID:e.2138.5736
SEQUENCE:3
DTSTAMP:20260425T150616Z
URL:https://business.seminolebusiness.org/events/details/perfectly-imperfect-this-holiday-season-5736
END:VEVENT

END:VCALENDAR
