BEGIN:VCALENDAR
VERSION:2.0
PRODID:-//ChamberMaster//Event Calendar 2.0//EN
METHOD:PUBLISH
X-PUBLISHED-TTL:P3D
REFRESH-INTERVAL:P3D
CALSCALE:GREGORIAN
BEGIN:VEVENT
DTSTART:20160724T170000Z
DTEND:20160724T210000Z
X-MICROSOFT-CDO-ALLDAYEVENT:FALSE
SUMMARY:Pet CPR & First Aid Class
DESCRIPTION:Pet parents and pet care professionals are invited to register for the upcoming Pet CPR & First Aid class. You will learn: Pet CPR (3 techniques)\, rescue breathing\, choking management\, injury assessment\, how to help your pet in an emergency and much more. Each participant will receive a handbook and certificate.
X-ALT-DESC;FMTTYPE=text/html:Pet parents and pet care professionals are invited to register for the upcoming Pet CPR &amp\; First Aid class. You will learn: Pet CPR (3 techniques)\, rescue breathing\, choking management\, injury assessment\, how to help your pet in an emergency and much more. Each participant will receive a handbook and certificate.
LOCATION:419 W Citrus Street Altamonte Springs\, Florida 32714
UID:e.2138.4591
SEQUENCE:3
DTSTAMP:20260425T210405Z
URL:https://business.seminolebusiness.org/events/details/pet-cpr-first-aid-class-07-24-2016-4591
END:VEVENT

END:VCALENDAR
