BEGIN:VCALENDAR
VERSION:2.0
PRODID:-//ChamberMaster//Event Calendar 2.0//EN
METHOD:PUBLISH
X-PUBLISHED-TTL:P3D
REFRESH-INTERVAL:P3D
CALSCALE:GREGORIAN
BEGIN:VEVENT
DTSTART:20180113T123000Z
DTEND:20180113T163000Z
X-MICROSOFT-CDO-ALLDAYEVENT:FALSE
SUMMARY:Pet Rescue By Judy 5K Rescue Run & 1 Mile Doggie Dash
DESCRIPTION:Pet Rescue by Judy 5K & 1 mile Doggie Run/Walk\n\nJanuary 13\, 2018\n\n7:30 a.m. 5K Run/Walk\n\n8:30 - Doggie Dash 1 mile\n\nFinisher Medals\n\nFinisher Medals will be provided to the first 300. (5K Only)\n\n5K Awards: Top 10 Males & Top Females\n\nDoggie 1 mile: - Top 3 Males & Top 3 Females\n\nPacket Pick-up Times\n\n-Thursday\, January 11th 10:00 a.m. - 7:00 p.m.\n\n-Friday\, January 12th from 10:00 a.m. - 7:00 p.m\n\n-Saturday\, January 13th  - 6:30 a.m. - 7:30 a.m. - Race Day - Registration is available on race day \n\n**packet pick-up will be provided on race day at race site\n\nWho We Are Today\n\nPet Rescue By Judy is a non-profit 501(c)(3) organization dedicated to the rescue cats and dogs. Many of them come to us with medical needs. They are doctored to the best of our ability and resources.\n\nOur Goals\n\nObviously our most urgent goal is to rescue animals that are abandoned or in distress\, update their vaccines\, and find good new homes for them. But we attempt to be more proactive than that. It is our heartfelt desire to prevent any animal from the need to be "rescued." With that vision in mind\, we take a three-prong approach through the education of pet owners and the general public about: \n\n- proper care of animals\, including correct diet of good quality food\, fresh clean water\, daily exercise\, and lots of love\n\n- spaying and neutering companion animals (dogs and cats) in order to prevent euthanasia and over-population\n\n- low-cost spay/neuter clinics and wellness centers in their local community
X-ALT-DESC;FMTTYPE=text/html:<p abp="2835">Pet Rescue by Judy 5K &amp\; 1 mile Doggie Run/Walk<br abp="2836" />\nJanuary 13\, 2018</p>\n\n<p abp="2837">7:30 a.m. 5K Run/Walk<br abp="2838" />\n8:30 - Doggie Dash 1 mile</p>\n\n<p abp="2839"><strong abp="2840">Finisher Medals</strong><br abp="2841" />\nFinisher Medals will be provided to the first 300. (5K Only)</p>\n\n<p abp="2843"><strong abp="2844">5K Awards:</strong> Top 10 Males &amp\; Top Females<br abp="2845" />\n<strong abp="2846">Doggie 1 mile:</strong> - Top 3 Males &amp\; Top 3 Females</p>\n\n<p abp="2847"><strong abp="2848">Packet Pick-up Times</strong><br abp="2849" />\n-Thursday\, January 11th 10:00 a.m. - 7:00 p.m.<br abp="2850" />\n-Friday\, January 12th from 10:00 a.m. - 7:00 p.m<br abp="2851" />\n-Saturday\, January 13th &nbsp\;- 6:30 a.m. - 7:30 a.m. - Race Day - Registration is available on race day&nbsp\;</p>\n\n<p abp="2852">**packet pick-up will be provided on race day at race site</p>\n\n<p abp="2853"><strong abp="2854">Who We Are Today</strong><br abp="2855" />\nPet Rescue By Judy is a non-profit 501(c)(3) organization dedicated to the rescue cats and dogs. Many of them come to us with medical needs. They are doctored to the best of our ability and resources.</p>\n\n<p abp="2856"><strong abp="2857">Our Goals</strong><br abp="2858" />\nObviously our most urgent goal is to rescue animals that are abandoned or in distress\, update their vaccines\, and find good new homes for them. But we attempt to be more proactive than that. It is our heartfelt desire to prevent any animal from the need to be &quot\;rescued.&quot\; With that vision in mind\, we take a three-prong approach through the education of pet owners and the general public about:&nbsp\;</p>\n\n<p abp="2859">- proper care of animals\, including correct diet of good quality food\, fresh clean water\, daily exercise\, and lots of love<br abp="2860" />\n- spaying and neutering companion animals (dogs and cats) in order to prevent euthanasia and over-population<br abp="2861" />\n- low-cost spay/neuter clinics and wellness centers in their local community</p>\n\n<p abp="2862">&nbsp\;</p>\n
LOCATION:Front Running Sports 1061 S Sun Dr #1097 Lake Mary\, FL US 32746
UID:e.2138.8646
SEQUENCE:3
DTSTAMP:20260424T094352Z
URL:https://business.seminolebusiness.org/events/details/pet-rescue-by-judy-5k-rescue-run-1-mile-doggie-dash-8646
END:VEVENT

END:VCALENDAR
