BEGIN:VCALENDAR
VERSION:2.0
PRODID:-//ChamberMaster//Event Calendar 2.0//EN
METHOD:PUBLISH
X-PUBLISHED-TTL:P3D
REFRESH-INTERVAL:P3D
CALSCALE:GREGORIAN
BEGIN:VEVENT
DTSTART:20180310T130000Z
DTEND:20180310T190000Z
X-MICROSOFT-CDO-ALLDAYEVENT:FALSE
SUMMARY:Pet Rescue By Judy 6th Annual "FORE" The Animals Golf Tournament
DESCRIPTION:Pet Rescue By Judy 6th Annual  "FORE" The Animals Golf Tournament\nIndividual Entry Fee $125.00 includes:\n\n \n\nBreakfast                    Golf and Cart Fees\n\nGoody Bag                 Course Refreshment\n\nDoor Prizes                Contests                                    \n\nRange Balls                Lunch
X-ALT-DESC;FMTTYPE=text/html:Pet Rescue By Judy 6th Annual &nbsp\;&quot\;FORE&quot\; The Animals Golf Tournament\n<div abp="2857">Individual Entry Fee&nbsp\;$125.00&nbsp\;includes:</div>\n\n<div abp="2858">&nbsp\;</div>\n\n<div abp="2860">Breakfast&nbsp\;&nbsp\;&nbsp\;&nbsp\;&nbsp\;&nbsp\;&nbsp\;&nbsp\;&nbsp\;&nbsp\;&nbsp\;&nbsp\;&nbsp\;&nbsp\;&nbsp\;&nbsp\;&nbsp\;&nbsp\;&nbsp\;&nbsp\;Golf and Cart Fees</div>\n\n<div abp="2861">Goody Bag&nbsp\;&nbsp\;&nbsp\;&nbsp\;&nbsp\;&nbsp\;&nbsp\;&nbsp\;&nbsp\;&nbsp\;&nbsp\;&nbsp\;&nbsp\;&nbsp\;&nbsp\;&nbsp\;&nbsp\;Course Refreshment</div>\n\n<div abp="2862">Door Prizes&nbsp\;&nbsp\;&nbsp\;&nbsp\;&nbsp\;&nbsp\;&nbsp\;&nbsp\;&nbsp\;&nbsp\;&nbsp\;&nbsp\;&nbsp\;&nbsp\;&nbsp\;&nbsp\;Contests&nbsp\;&nbsp\;&nbsp\;&nbsp\;&nbsp\;&nbsp\;&nbsp\;&nbsp\;&nbsp\;&nbsp\;&nbsp\;&nbsp\;&nbsp\;&nbsp\;&nbsp\;&nbsp\;&nbsp\;&nbsp\;&nbsp\;&nbsp\;&nbsp\;&nbsp\;&nbsp\;&nbsp\;&nbsp\;&nbsp\;&nbsp\;&nbsp\;&nbsp\;&nbsp\;&nbsp\;&nbsp\;&nbsp\;&nbsp\;&nbsp\;&nbsp\;</div>\n\n<div abp="2863">Range Balls&nbsp\;&nbsp\;&nbsp\;&nbsp\;&nbsp\;&nbsp\;&nbsp\;&nbsp\;&nbsp\;&nbsp\;&nbsp\;&nbsp\;&nbsp\;&nbsp\;&nbsp\; Lunch</div>\n
LOCATION:Mayfair Country Club 3536 Country Club Rd\, Sanford\, FL 32773
UID:e.2138.8664
SEQUENCE:3
DTSTAMP:20260424T132005Z
URL:https://business.seminolebusiness.org/events/details/pet-rescue-by-judy-6th-annual-fore-the-animals-golf-tournament-8664
END:VEVENT

END:VCALENDAR
