BEGIN:VCALENDAR
VERSION:2.0
PRODID:-//ChamberMaster//Event Calendar 2.0//EN
METHOD:PUBLISH
X-PUBLISHED-TTL:P3D
REFRESH-INTERVAL:P3D
CALSCALE:GREGORIAN
BEGIN:VEVENT
DTSTART:20170309T233000Z
DTEND:20170310T003000Z
X-MICROSOFT-CDO-ALLDAYEVENT:FALSE
SUMMARY:Power-Up with Food!
DESCRIPTION:POWER-UP WITH FOOD presented by Dr. Janelle Ranasingha\, DC of Palmer Natural Health\n\n- Learn our favorite foods that will give you all-day energy and fat-burning that LASTS.\n\n- Learn what common "health" foods are total KRYPTONITE and will sap your energy instead of boost it up.\n\n- Get information on Nutrition Response Testing and how to unlock your body's potential to overcome health challenges naturally\, with no side effects.\n\nTry Dr. Janelle's Healthy Super Spaghetti that will leave you energy-filled and get the recipe too!
X-ALT-DESC;FMTTYPE=text/html:<p>POWER-UP WITH FOOD presented by Dr. Janelle Ranasingha\, DC of Palmer Natural Health</p>\n\n<p>- Learn our favorite foods that will give you all-day energy and fat-burning that LASTS.</p>\n\n<p>-&nbsp\;Learn what common &ldquo\;health&rdquo\; foods are total KRYPTONITE and will sap your energy instead of boost it up.</p>\n\n<p>- Get information on Nutrition Response Testing and how to unlock your body&#39\;s potential to overcome health challenges naturally\, with no side effects.</p>\n\n<p>Try Dr. Janelle&#39\;s Healthy Super Spaghetti that will leave you energy-filled and get the recipe too!</p>\n
LOCATION:Palmer Natural Health\, located in Historic Longwood on Wilma and Pine Ave. Just off of 434 and Ronald Reagan!
UID:e.2138.6465
SEQUENCE:3
DTSTAMP:20260423T175004Z
URL:https://business.seminolebusiness.org/events/details/power-up-with-food-6465
END:VEVENT

END:VCALENDAR
