BEGIN:VCALENDAR
VERSION:2.0
PRODID:-//ChamberMaster//Event Calendar 2.0//EN
METHOD:PUBLISH
X-PUBLISHED-TTL:P3D
REFRESH-INTERVAL:P3D
CALSCALE:GREGORIAN
BEGIN:VEVENT
DTSTART:20250914T220000Z
DTEND:20250915T000000Z
X-MICROSOFT-CDO-ALLDAYEVENT:FALSE
SUMMARY:Pray For Our Leaders VIII\, Presented by Christian Tech Center Ministries
DESCRIPTION:Christian Tech Center Ministries\, in conjunction with Reyes Family Grassroots Leadership and Blake Lorenz Evangelistic Ministries\, is honored to present the eighth annual Pray For Our Leaders!\n\n\n\nPFOL will take place on Sunday\, September 14 from 6-8PM at Encounter Church Orlando\, 6208 S. Orange Ave #108\, Orlando\, FL 32809.\n\n\n\nPray For Our Leaders is a movement where elected officials\, candidates\, civic leaders\, clergy\, veterans\, first responders\, and other community heroes are all invited to come together\, worship the Lord\, and receive prayer. We will also have general seating for members of the public to join and participate. This event is open to everyone\, regardless of background or political affiliation.\n\n\n\nThis year's event will feature Christian Tech Center's executive director Andre Klass as your master of ceremonies\, Joe Melendez leading the Encounter and CCDD Ministry worship bands\, and inspiring messages by Pastor Blake Lorenz\, Pastor Harry Renta\, and President of the US Christian Chamber of Commerce\, Krystal Parker!\n\n\n\nRegistration is free\, but mandatory to attend. Click here to get your tickets: pfolmovement.com\n\n\n\nWe will also be collecting donations of food\, clothing\, bibles\, and technology to support local non-profit organizations.\n\n\n\nWe look forward to seeing you there!
X-ALT-DESC;FMTTYPE=text/html:<div>\n<div>Christian Tech Center Ministries\, in conjunction with Reyes Family Grassroots Leadership and Blake Lorenz Evangelistic Ministries\, is honored to present the eighth annual Pray For Our Leaders!<br />\n<br />\nPFOL will take place on Sunday\, September 14 from 6-8PM at Encounter Church Orlando\, 6208 S. Orange Ave #108\, Orlando\, FL 32809.<br />\n<br />\nPray For Our Leaders is a movement where elected officials\, candidates\, civic leaders\, clergy\, veterans\, first responders\, and other community heroes are all invited to come together\, worship the Lord\, and receive prayer. We will also have general seating for members of the public to join and participate. This event is open to everyone\, regardless of background or political affiliation.<br />\n<br />\nThis year&#39\;s event will feature Christian Tech Center&#39\;s executive director Andre Klass as your master of ceremonies\, Joe Melendez leading the Encounter and CCDD Ministry worship bands\, and inspiring messages by Pastor Blake Lorenz\, Pastor Harry Renta\, and President of the US Christian Chamber of Commerce\, Krystal Parker!<br />\n<br />\nRegistration is free\, but mandatory to attend. Click here to get your tickets: <a href="https://pfolmovement.com">pfolmovement.com</a><br />\n<br />\nWe will also be collecting donations of food\, clothing\, bibles\, and technology to support local non-profit organizations.<br />\n<br />\nWe look forward to seeing you there!</div>\n</div>\n
LOCATION:Encounter Church Orlando 6208 S. Orange Ave\, Suite 108 Orlando\, FL 32809
UID:e.2138.37697
SEQUENCE:3
DTSTAMP:20260423T072401Z
URL:https://business.seminolebusiness.org/events/details/pray-for-our-leaders-viii-presented-by-christian-tech-center-ministries-37697
END:VEVENT

END:VCALENDAR
