BEGIN:VCALENDAR
VERSION:2.0
PRODID:-//ChamberMaster//Event Calendar 2.0//EN
METHOD:PUBLISH
X-PUBLISHED-TTL:P3D
REFRESH-INTERVAL:P3D
CALSCALE:GREGORIAN
BEGIN:VEVENT
DTSTART:20231029T220000Z
DTEND:20231030T010000Z
X-MICROSOFT-CDO-ALLDAYEVENT:FALSE
SUMMARY:Pro Wrestling Action Presents: MONSTER MASH!
DESCRIPTION:Get ready for a spine-chilling spectacle like no other!\n\nPro Wrestling Action presents "MONSTER MASH"   The Spookiest Pro Wrestling Event of The Year! On October 29\, 2023\, brace yourselves for an incredible night of battles and hair-raising excitement at The Center of Deltona in Deltona\, FL. This Halloween-themed event promises to deliver a monster-sized dose of thrills that will leave you on the edge of your seat!\n\nCome dressed up in your favorite Halloween outfits as we will be holding a special COSTUME CONTEST\, with the winner receiving a special prize!\n\nSCHEDULED TO APPEAR:\n\n"The Halloween Horror" Lexi Gomez\, Simon Sez\, "The Authority" Eddie Taurus\, Kekoa\, Sir Knight Merrik Donovan\, "DadBod DemiGod" Joey Mayberry\, Steve Michaels\, Blake Banks\, and many more!\n\nPlus\, witness the return of Mikey Spandex and the Pro Wrestling Action debut of former ALL ELITE WRESTLING superstar Leva Bates!\n\nThis event is suitable for all ages!\n\n\n\nDoors Open at 6 to meet Wrestlers and enjoy the Costume Contest\, Show starts at 7\n\n**CARD SUBJECT TO CHANGE**\n\nNo refunds unless the event is canceled.\n\nFor any questions\, feel free to email us at Info@ProWrestlingAction.com or shoot us a message on Facebook.\n\n \n\nClick This Link to get your Tickets $5 dollars in advance off the door price!\n\n\nhttp://pwamonster.eventbrite.com/
X-ALT-DESC;FMTTYPE=text/html:<p>Get ready for a spine-chilling spectacle like no other!</p>\n\n<p>Pro Wrestling Action presents &quot\;<strong>MONSTER MASH</strong>&quot\; &ndash\; The Spookiest Pro Wrestling Event of The Year! On<span style="color:inherit">&nbsp\;</span><strong>October 29\, 2023</strong>\, brace yourselves for an incredible night of battles and hair-raising excitement at<span style="color:inherit">&nbsp\;</span><strong>The Center of Deltona</strong><span style="color:inherit">&nbsp\;</span>in<span style="color:inherit">&nbsp\;</span><strong>Deltona\, FL</strong>. This Halloween-themed event promises to deliver a monster-sized dose of thrills that will leave you on the edge of your seat!</p>\n\n<p>Come dressed up in your favorite Halloween outfits as we will be holding a special COSTUME CONTEST\, with the winner receiving a special prize!</p>\n\n<p><strong>SCHEDULED TO APPEAR:</strong></p>\n\n<p>&quot\;The Halloween Horror&quot\; Lexi Gomez\, Simon Sez\, &quot\;The Authority&quot\; Eddie Taurus\, Kekoa\, Sir Knight Merrik Donovan\, &quot\;DadBod DemiGod&quot\; Joey Mayberry\, Steve Michaels\, Blake Banks\, and many more!</p>\n\n<p>Plus\, witness the return of Mikey Spandex and the Pro Wrestling Action debut of former ALL ELITE WRESTLING superstar Leva Bates!</p>\n\n<p>This event is suitable for all ages!<br />\n<br />\nDoors Open at 6 to meet Wrestlers and enjoy the Costume Contest\, Show starts at 7</p>\n\n<p><strong>**CARD SUBJECT TO CHANGE**</strong></p>\n\n<p>No refunds unless the event is canceled.</p>\n\n<p>For any questions\, feel free to email us at Info@ProWrestlingAction.com or shoot us a message on Facebook.</p>\n\n<p>&nbsp\;</p>\n\n<div>Click This Link to get your Tickets $5 dollars in advance off the door price!</div>\n<br />\nhttp://pwamonster.eventbrite.com/
LOCATION:1640 Dr. M.L.K. Jr. Blvd\, Deltona\, FL 32725
UID:e.2138.33313
SEQUENCE:3
DTSTAMP:20260424T233341Z
URL:https://business.seminolebusiness.org/events/details/pro-wrestling-action-presents-monster-mash-33313
END:VEVENT

END:VCALENDAR
