BEGIN:VCALENDAR
VERSION:2.0
PRODID:-//ChamberMaster//Event Calendar 2.0//EN
METHOD:PUBLISH
X-PUBLISHED-TTL:P3D
REFRESH-INTERVAL:P3D
CALSCALE:GREGORIAN
BEGIN:VEVENT
DTSTART:20190507T114500Z
DTEND:20190507T130000Z
X-MICROSOFT-CDO-ALLDAYEVENT:FALSE
SUMMARY:ForsterBoughman seminar presented at the Probate and Pumpernickel Breakfast
DESCRIPTION:Attorneys Gary A. Forster and Eric C. Boughman present their seminar on:\n\nThe Pitfalls of Fraudulent Transfers in Estate Planning and Asset Protection \n\nat the Probate and Pumpernickel Breakfast\, a continuing educational forum for attorneys and CPAs\, produced by Palm Beach Atlantic University\, at the Citrus Club (255 S. Orange Ave\, Orlando\,Florida 32801).\n\n\n\nLink to register:  https://www.pba.edu/calendar/index.php?eID=919
X-ALT-DESC;FMTTYPE=text/html:Attorneys&nbsp\;Gary A. Forster and Eric C. Boughman present their seminar on:<br />\n<strong><em>The Pitfalls of Fraudulent Transfers in Estate Planning and Asset Protection&nbsp\;</em></strong><br />\nat the Probate and Pumpernickel Breakfast\, a continuing educational forum for attorneys and CPAs\, produced by Palm Beach Atlantic University\, at the Citrus Club (255 S. Orange Ave\, Orlando\,Florida 32801).<br />\n<br />\nLink to register:&nbsp\;&nbsp\;<a href="https://www.pba.edu/calendar/index.php?eID=919">https://www.pba.edu/calendar/index.php?eID=919</a>
LOCATION:The Citrus Club 255 S. Orange Ave Orlando\, Florida 32801
UID:e.2138.15161
SEQUENCE:3
DTSTAMP:20260422T081036Z
URL:https://business.seminolebusiness.org/events/details/probate-and-pumpernickel-breakfast-15161
END:VEVENT

END:VCALENDAR
