BEGIN:VCALENDAR
VERSION:2.0
PRODID:-//ChamberMaster//Event Calendar 2.0//EN
METHOD:PUBLISH
X-PUBLISHED-TTL:P3D
REFRESH-INTERVAL:P3D
CALSCALE:GREGORIAN
BEGIN:VEVENT
DTSTART:20161018T150000Z
DTEND:20161018T200000Z
X-MICROSOFT-CDO-ALLDAYEVENT:FALSE
SUMMARY:Proforma A&G - Mini Expo & Educational Event
DESCRIPTION:We invite you and your colleagues to join us for a Marketing Mini Expo & Educational Event! \n\n \n\nWe are very excited to present this event to our dear clients and friends.  We will have some of our ELITE partners to present your new ideas for the fall and the upcoming Holidays. \n \n\nWe will have a lot of door prizes\, surprises\, and cool presentations for your branding needs. Please bring your friends at the office or even your clients\, we will have a blast!\n\n \n\nTell them to click on the link below to register or RSVP.
X-ALT-DESC;FMTTYPE=text/html:<div><strong><span style="color:gray"><span style="font-family:arial\,sans-serif"><span style="font-size:10pt">We invite you and your&nbsp\;colleagues to join us for a Marketing Mini Expo &amp\; Educational Event!&nbsp\;</span></span></span></strong></div>\n\n<div>&nbsp\;</div>\n\n<div><span style="color:gray"><span style="font-family:arial\,sans-serif"><span style="font-size:10pt">We are very excited to present this event to our dear clients and friends. &nbsp\;We will have some of our ELITE partners to present your new ideas for the fall and the upcoming Holidays.&nbsp\;</span></span></span></div>\n&nbsp\;\n\n<div><span style="color:gray"><span style="font-family:arial\,sans-serif"><span style="font-size:10pt">We will have a lot of door prizes\, surprises\, and cool presentations for your branding needs. Please bring your friends at the office or even your clients\, we will have a blast!</span></span></span></div>\n\n<div>&nbsp\;</div>\n\n<div><span style="color:gray"><span style="font-family:arial\,sans-serif"><span style="font-size:10pt">Tell them to click on the link below to register or RSVP.</span></span></span></div>\n
LOCATION:Lake Mary Community Center 140 E. Wilbur Avenue Lake Mary\, Florida 32746
UID:e.2138.5708
SEQUENCE:3
DTSTAMP:20260425T164718Z
URL:https://business.seminolebusiness.org/events/details/proforma-a-g-mini-expo-educational-event-5708
END:VEVENT

END:VCALENDAR
