BEGIN:VCALENDAR
VERSION:2.0
PRODID:-//ChamberMaster//Event Calendar 2.0//EN
METHOD:PUBLISH
X-PUBLISHED-TTL:P3D
REFRESH-INTERVAL:P3D
CALSCALE:GREGORIAN
BEGIN:VEVENT
DTSTART:20190912T140000Z
DTEND:20190912T180000Z
X-MICROSOFT-CDO-ALLDAYEVENT:FALSE
SUMMARY:Proforma Bright Ideas Showcase 2019
DESCRIPTION:An event where you will have the opportunity to take a look at our new and trendy products! Holiday ready samples and specials. Our partners will showcase a variety of their products and help you recognize which ones fit your business best. \n\n	Touch & feel the products\n	Ask questions about projects you are working on\n	Network with other clients\n	Participate in Swag giveaways\n	Have a great time!
X-ALT-DESC;FMTTYPE=text/html:An event where you will have the opportunity to take a look at our new and trendy products! Holiday ready samples and specials. Our partners will showcase a variety of their products and help you recognize which ones fit your business best.&nbsp\;\n<ul>\n	<li>Touch &amp\; feel the products</li>\n	<li>Ask questions about projects you are working on</li>\n	<li>Network with other clients</li>\n	<li>Participate in Swag giveaways</li>\n	<li>Have a great time!</li>\n</ul>\n
LOCATION:Noah's Event Venue 720 Currency Cir Lake Mary\, FL 32746
UID:e.2138.16542
SEQUENCE:3
DTSTAMP:20260422T021342Z
URL:https://business.seminolebusiness.org/events/details/proforma-bright-ideas-showcase-2019-16542
END:VEVENT

END:VCALENDAR
