BEGIN:VCALENDAR
VERSION:2.0
PRODID:-//ChamberMaster//Event Calendar 2.0//EN
METHOD:PUBLISH
X-PUBLISHED-TTL:P3D
REFRESH-INTERVAL:P3D
CALSCALE:GREGORIAN
BEGIN:VEVENT
DTSTART:20170612T160000Z
DTEND:20170612T163000Z
X-MICROSOFT-CDO-ALLDAYEVENT:FALSE
SUMMARY:Pulse Service of Remembrance
DESCRIPTION:All are welcome to join in a service of remembrance of the June 12\, 2016 attack at the Pulse Nightclub in Orlando. Together we will pray\, light candles\, share communion\, and hear the bells chime 50 times at noon in honor of the 49 people killed that day\, and another for reconciliation and forgiveness of the shooter. Together we will remember that God's love has reconciled us to himself and to one another.
X-ALT-DESC;FMTTYPE=text/html:<span style="font-size:12px"><span style="color:rgb(102\, 102\, 102)">All are welcome to join in a service of remembrance of the June 12\, 2016 attack at the Pulse Nightclub in Orlando. Together we will pray\, light candles\, share communion\, and hear the bells chime 50&nbsp\;times at noon in honor of the 49 people killed&nbsp\;that day\, and another for reconciliation and forgiveness of the shooter. Together we will remember that God&#39\;s love has reconciled us to himself and to one another.</span></span>
LOCATION:St. Stephen Lutheran Church 2140 W State Route 434 Longwood\, FL 32779
UID:e.2138.7579
SEQUENCE:3
DTSTAMP:20260423T223249Z
URL:https://business.seminolebusiness.org/events/details/pulse-service-of-remembrance-06-12-2017-7579
END:VEVENT

END:VCALENDAR
