BEGIN:VCALENDAR
VERSION:2.0
PRODID:-//ChamberMaster//Event Calendar 2.0//EN
METHOD:PUBLISH
X-PUBLISHED-TTL:P3D
REFRESH-INTERVAL:P3D
CALSCALE:GREGORIAN
BEGIN:VEVENT
DTSTART:20181101T113000Z
DTEND:20181101T133000Z
X-MICROSOFT-CDO-ALLDAYEVENT:FALSE
SUMMARY:Purple Pancake Alzheimer's Fundraising Event
DESCRIPTION:November is Alzheimer's Awarness month and Atria Park of Lake Forest is dedicated to fighting this devastating disease.  We're kicking off our fundraising campaign with a purple pancake breakfast.  Eat with us or take your pancakes to go.  We can't wait to see you!
X-ALT-DESC;FMTTYPE=text/html:November is Alzheimer&#39\;s Awarness month and Atria Park of Lake Forest is dedicated to fighting this devastating disease.&nbsp\; We&#39\;re kicking off our fundraising campaign with a purple pancake breakfast.&nbsp\; Eat with us or take your pancakes to go.&nbsp\; We can&#39\;t wait to see you!
LOCATION:Atria Park of Lake Forest 5433 West State Road 46 Sanford\, Florida 32771 407.322.2207
UID:e.2138.14783
SEQUENCE:3
DTSTAMP:20260424T004818Z
URL:https://business.seminolebusiness.org/events/details/purple-pancake-alzheimer-s-fundraising-event-14783
END:VEVENT

END:VCALENDAR
