BEGIN:VCALENDAR
VERSION:2.0
PRODID:-//ChamberMaster//Event Calendar 2.0//EN
METHOD:PUBLISH
X-PUBLISHED-TTL:P3D
REFRESH-INTERVAL:P3D
CALSCALE:GREGORIAN
BEGIN:VEVENT
DTSTART:20160303T233000Z
DTEND:20160304T020000Z
X-MICROSOFT-CDO-ALLDAYEVENT:FALSE
SUMMARY:Purple Pride 5K
DESCRIPTION:Join thousands of Orlando City fans\, as we run through downtown Orlando and show off our purple pride. This officially timed 5K race features all of the Orlando City game day festivities including confetti\, tailgate games\, food trucks and beer! \n\n\n\nEach runner will receive a Purple Pride 5K t-shirt\, a drink coupon good for 1 beer at the Heineken beer garden located in the post-race celebration area and 1 ticket to the opening match on Sunday\, March 6.
X-ALT-DESC;FMTTYPE=text/html:<span style="font-size:10.0pt">Join thousands of Orlando City fans\, as we run through downtown Orlando and show off our purple pride. This officially timed 5K race features all of the Orlando City game day festivities including confetti\, tailgate games\, food trucks and beer!&nbsp\;</span><br />\n<br />\n<span style="font-size:10.0pt">Each runner will receive&nbsp\;a Purple Pride 5K t-shirt\, a drink coupon good for 1 beer at the Heineken beer garden located in the post-race celebration area and 1 ticket to the opening match on Sunday\, March 6.</span><br />\n&nbsp\;
LOCATION:Lake Eola - Race starts on Eola Drive at the SW corner of the park
UID:e.2138.4349
SEQUENCE:3
DTSTAMP:20260426T031220Z
URL:https://business.seminolebusiness.org/events/details/purple-pride-5k-03-03-2016-4349
END:VEVENT

END:VCALENDAR
