BEGIN:VCALENDAR
VERSION:2.0
PRODID:-//ChamberMaster//Event Calendar 2.0//EN
METHOD:PUBLISH
X-PUBLISHED-TTL:P3D
REFRESH-INTERVAL:P3D
CALSCALE:GREGORIAN
BEGIN:VEVENT
DTSTART:20170225T140000Z
DTEND:20170225T150000Z
X-MICROSOFT-CDO-ALLDAYEVENT:FALSE
SUMMARY:Purple Pride 5K
DESCRIPTION:Starting and finishing at the Stadium\, the Purple Pride 5K will be capped at 2\,500 runners and feature a commemorative die-cast medal for all finishers. After the race\, be one of the first to get a look at the rest of the Stadium during our House Party.
X-ALT-DESC;FMTTYPE=text/html:<span style="color:rgb(0\, 0\, 0)\; font-family:arial\; font-size:14.6667px">Starting and finishing at the Stadium\, the Purple Pride 5K will be capped at 2\,500 runners and feature a commemorative die-cast medal for all finishers. After the race\, be one of the first to get a look at the rest of the Stadium during our House Party.</span>
LOCATION:Orlando City Stadium 655 W. Church Street Orlando\, FL 32805
UID:e.2138.6435
SEQUENCE:3
DTSTAMP:20260423T161431Z
URL:https://business.seminolebusiness.org/events/details/purple-pride-5k-6435
END:VEVENT

END:VCALENDAR
