BEGIN:VCALENDAR
VERSION:2.0
PRODID:-//ChamberMaster//Event Calendar 2.0//EN
METHOD:PUBLISH
X-PUBLISHED-TTL:P3D
REFRESH-INTERVAL:P3D
CALSCALE:GREGORIAN
BEGIN:VEVENT
DTSTART:20171201T140000Z
DTEND:20171201T210000Z
X-MICROSOFT-CDO-ALLDAYEVENT:FALSE
SUMMARY:QuickBooks - Online Version
DESCRIPTION:This one day QuickBooks seminar is packed full of information from set-up to reports!  You will learn basic accounting concepts\, how to keep your checkbook balanced\, how to track who owes you money and who you owe among other topics.  Great for beginners to imtermediate users!\n\n\n\nFree parking and lunch is included!  Fee is $199.00
X-ALT-DESC;FMTTYPE=text/html:This one day QuickBooks seminar is packed full of information from set-up to reports!&nbsp\; You will learn basic accounting concepts\, how to keep your checkbook balanced\, how to track who owes you money and who you owe among other topics.&nbsp\; Great for beginners to imtermediate users!<br />\n<br />\nFree parking and lunch is included!&nbsp\; Fee is $199.00
LOCATION:Seminole State College Heathrow Campus 1055 AAA Dr.\, Room 301 ?Heathrow\, Fl 32746
UID:e.2138.8507
SEQUENCE:3
DTSTAMP:20260424T093811Z
URL:https://business.seminolebusiness.org/events/details/quickbooks-online-version-12-01-2017-8507
END:VEVENT

END:VCALENDAR
