BEGIN:VCALENDAR
VERSION:2.0
PRODID:-//ChamberMaster//Event Calendar 2.0//EN
METHOD:PUBLISH
X-PUBLISHED-TTL:P3D
REFRESH-INTERVAL:P3D
CALSCALE:GREGORIAN
BEGIN:VEVENT
DTSTART:20161105T220000Z
DTEND:20161106T013000Z
X-MICROSOFT-CDO-ALLDAYEVENT:FALSE
SUMMARY:Raise the Roof
DESCRIPTION:Join Habitat for Humanity of Seminole-Apopka for a Night Under the Stars as we celebrate 25 years of building stronger communities.\n\nYou're invited to Habitat for Humanity's distinctly unique and casual dinner event\, Raise the Roof.  The evening includes a lively reception with a silent and live auction\, music and entertainment and an inspiring program celebrating 25 years of partnering with local families to build a better community.\n\nBe a table host! Create a theme for your table and provide dinner\, dessert and libations for your ten guests - theme related attire and embellishments are encouraged.  Prizes will be awarded!\n\nReserve your table today!
X-ALT-DESC;FMTTYPE=text/html:Join Habitat for Humanity of Seminole-Apopka for a Night Under the Stars as we celebrate 25 years of building stronger communities.<br />\nYou&#39\;re invited to Habitat for Humanity&#39\;s distinctly unique and casual dinner event\, Raise the Roof.&nbsp\; The evening includes a lively reception with a silent and live auction\, music and entertainment and an inspiring program celebrating 25 years of partnering with local families to build a better community.<br />\nBe a table host! Create a theme for your table and provide dinner\, dessert and libations for your ten guests - theme related attire and embellishments are encouraged.&nbsp\; Prizes will be awarded!<br />\nReserve your table today!
LOCATION:Reiter Park 301 W. Warren Avenue Longwood\, FL 32750
UID:e.2138.4831
SEQUENCE:3
DTSTAMP:20260425T150440Z
URL:https://business.seminolebusiness.org/events/details/raise-the-roof-11-05-2016-4831
END:VEVENT

END:VCALENDAR
