BEGIN:VCALENDAR
VERSION:2.0
PRODID:-//ChamberMaster//Event Calendar 2.0//EN
METHOD:PUBLISH
X-PUBLISHED-TTL:P3D
REFRESH-INTERVAL:P3D
CALSCALE:GREGORIAN
BEGIN:VEVENT
DTSTART:20250827T210000Z
DTEND:20250827T230000Z
X-MICROSOFT-CDO-ALLDAYEVENT:FALSE
SUMMARY:Real Estate Rundown: Experts Talking Buying\, Selling and Beyond
DESCRIPTION:Hosted by Deborah & Chuck Morris of Keller Williams Advantage Realty\, this informative event features trusted professionals Mike Brockman (Brockman Insurance)\, Susan Sherman (Solutions Group Mortgage)\, Jessica Speaks (FLA Rents)\, and Christine Cirnigliaro (Puro Clean). Whether you're planning to buy\, sell\, or simply want to stay informed as a homeowner\, this session will give you practical insights for today's market. Light refreshments will be served. https://forms.gle/pSgnQDDYLA26Rnqo8
X-ALT-DESC;FMTTYPE=text/html:<strong>Hosted by Deborah &amp\; Chuck Morris of Keller Williams Advantage Realty\, this informative event features trusted professionals&mdash\;Mike Brockman (Brockman Insurance)\, Susan Sherman (Solutions Group Mortgage)\, Jessica Speaks (FLA Rents)\, and Christine Cirnigliaro (Puro Clean). Whether you&#39\;re planning to buy\, sell\, or simply want to stay informed as a homeowner\, this session will give you practical insights for today&rsquo\;s market.&nbsp\;</strong>Light refreshments will be served. <a class="x1fey0fg xmper1u x1edh9d7" dir="ltr" href="https://forms.gle/pSgnQDDYLA26Rnqo8">https://forms.gle/pSgnQDDYLA26Rnqo8</a>
LOCATION:Aviation Institute of Maintenance 2725 S US Hwy 17-92 Casselberry\, FL 32707
UID:e.2138.37829
SEQUENCE:3
DTSTAMP:20260423T085017Z
URL:https://business.seminolebusiness.org/events/details/real-estate-rundown-experts-talking-buying-selling-and-beyond-37829
END:VEVENT

END:VCALENDAR
