BEGIN:VCALENDAR
VERSION:2.0
PRODID:-//ChamberMaster//Event Calendar 2.0//EN
METHOD:PUBLISH
X-PUBLISHED-TTL:P3D
REFRESH-INTERVAL:P3D
CALSCALE:GREGORIAN
BEGIN:VEVENT
DTSTART:20180717T203000Z
DTEND:20180717T223000Z
X-MICROSOFT-CDO-ALLDAYEVENT:FALSE
SUMMARY:REALTOR APPRECIATION
DESCRIPTION:Realtors\, join us July 17 at Carrabbas in Winter Springs for our Realtor Appreciation from 4:30 p.m. to 6:30 p.m.  You all work so hard for your buyers and sellers that we want to appreciate and celebrate you all! So take a break and have some lite bites and two adult beverages!! Our hosts are Sam Dongilli from The Mortgage Firm\, Jamie Yasko-Mangum with Capital Land Settlements and Steve Trassman of Allstate!  There will be some amazaing giveaways so bring your business cards!!
X-ALT-DESC;FMTTYPE=text/html:<span style="color: rgb(51\, 51\, 51)\; font-family: sans-serif\,arial\,verdana\,trebuchet ms\; font-size: 13px\; background-color: rgb(255\, 255\, 255)\;">Realtors\, join us July 17&nbsp\;at Carrabbas in Winter Springs for our Realtor Appreciation from 4:30 p.m. to 6:30 p.m.&nbsp\; You all work so hard for your buyers and sellers that we want to appreciate and celebrate you all! So take a break and have some lite bites and two adult beverages!!&nbsp\;Our hosts are Sam Dongilli from The Mortgage Firm\, Jamie Yasko-Mangum with Capital Land Settlements and Steve Trassman of Allstate!&nbsp\; There will be some amazaing giveaways so bring your business cards!!</span>
LOCATION:Carrabbas Italian Grill 5820 Red Bug Lake Road Winter Springs FL 32708
UID:e.2138.9560
SEQUENCE:3
DTSTAMP:20260424T065826Z
URL:https://business.seminolebusiness.org/events/details/realtor-appreciation-9560
END:VEVENT

END:VCALENDAR
