BEGIN:VCALENDAR
VERSION:2.0
PRODID:-//ChamberMaster//Event Calendar 2.0//EN
METHOD:PUBLISH
X-PUBLISHED-TTL:P3D
REFRESH-INTERVAL:P3D
CALSCALE:GREGORIAN
BEGIN:VEVENT
DTSTART:20180518T210000Z
DTEND:20180519T000000Z
X-MICROSOFT-CDO-ALLDAYEVENT:FALSE
SUMMARY:Rejuvenation for Charity! Benefiting the Leukemia and Lymphoma Society.
DESCRIPTION:
X-ALT-DESC;FMTTYPE=text/html:
LOCATION:Altamonte MD 460 East Altamonte Drive. Suite 2200 Altamonte Springs\, FL 32701
UID:e.2138.9407
SEQUENCE:3
DTSTAMP:20260424T103632Z
URL:https://business.seminolebusiness.org/events/details/rejuvenation-for-charity-benefiting-the-leukemia-and-lymphoma-society-9407
END:VEVENT

END:VCALENDAR
