BEGIN:VCALENDAR
VERSION:2.0
PRODID:-//ChamberMaster//Event Calendar 2.0//EN
METHOD:PUBLISH
X-PUBLISHED-TTL:P3D
REFRESH-INTERVAL:P3D
CALSCALE:GREGORIAN
BEGIN:VEVENT
DTSTART;VALUE=DATE:20161026
DTEND;VALUE=DATE:20161027
TRANSP:TRANSPARENT
X-MICROSOFT-CDO-ALLDAYEVENT:TRUE
SUMMARY:Rescue Outreach Mission's 18th Annual Servant of the People Luncheon
DESCRIPTION:We hope you will join us for our 18th Annual Servants of the People Luncheon\, themed "Illuminating the Call to Serve".  This year's event promises to be a top notch event once again\, where numerous key officials from the County will serve lunch to our sponsors and attendees.  Our annual luncheon benefits the Rescue Mission of Central Florida\, the county's only emergency homeless shelter of its kind.\n\n\n\nWe continue to need Individual and Corporate Sponsors as well as Silent Auction Items. For more information or to sponsor our event\, email dwilkinson@rescueoutreachcfl.org for assistance.
X-ALT-DESC;FMTTYPE=text/html:We hope you will join us for our 18th Annual Servants of the People Luncheon\, themed &quot\;Illuminating the Call to Serve&quot\;. &nbsp\;This year&#39\;s event promises to be a top notch event once again\, where numerous key officials from the County will serve lunch to our sponsors and attendees. &nbsp\;Our annual luncheon benefits the Rescue Mission of Central Florida\, the county&#39\;s only emergency homeless shelter of its kind.<br />\n<br />\nWe continue to need Individual and Corporate Sponsors as well as Silent Auction Items. For more information or to sponsor our event\, email dwilkinson@rescueoutreachcfl.org for assistance.
LOCATION:Orlando Marriott Lake Mary 1501 International Pkwy Lake Mary\, FL 32746
UID:e.2138.5709
SEQUENCE:3
DTSTAMP:20260425T165350Z
URL:https://business.seminolebusiness.org/events/details/rescue-outreach-mission-s-18th-annual-servant-of-the-people-luncheon-5709
END:VEVENT

END:VCALENDAR
