BEGIN:VCALENDAR
VERSION:2.0
PRODID:-//ChamberMaster//Event Calendar 2.0//EN
METHOD:PUBLISH
X-PUBLISHED-TTL:P3D
REFRESH-INTERVAL:P3D
CALSCALE:GREGORIAN
BEGIN:VEVENT
DTSTART:20190111T183000Z
DTEND:20190111T193000Z
X-MICROSOFT-CDO-ALLDAYEVENT:FALSE
SUMMARY:RESOLVE TO GET YOUR HEALTH BACK IN 2019- SUCCESS IS JUST 8-MINUTES AWAY
DESCRIPTION:Learn about a medical device that can improve your Life by increasing general Blood Flow:\n\n	Enhance Athletic Performance\n	Enhance Endurance\n	Enhance Cardiac Function\n	Improve Strength-Energy-Recovery\n	Reduce Inflammation\n	Stress Reduction & Relaxation\n	Improve Concentration & Mental Acuity\n	Sleep Management\n	FDA registered device\n	NASA Collaboration
X-ALT-DESC;FMTTYPE=text/html:Learn about a medical device that can improve your Life by increasing general Blood Flow:\n<ul>\n	<li>Enhance Athletic Performance</li>\n	<li>Enhance Endurance</li>\n	<li>Enhance Cardiac Function</li>\n	<li>Improve Strength-Energy-Recovery</li>\n	<li>Reduce Inflammation</li>\n	<li>Stress Reduction &amp\; Relaxation</li>\n	<li>Improve Concentration &amp\; Mental Acuity</li>\n	<li>Sleep Management</li>\n	<li>FDA registered device</li>\n	<li>NASA Collaboration</li>\n</ul>\n
LOCATION:715 Douglas Avenue Altamonte Springs\, FL 32714
UID:e.2138.14841
SEQUENCE:3
DTSTAMP:20260423T214855Z
URL:https://business.seminolebusiness.org/events/details/resolve-to-get-your-health-back-in-2019-success-is-just-8-minutes-away-14841
END:VEVENT

END:VCALENDAR
