BEGIN:VCALENDAR
VERSION:2.0
PRODID:-//ChamberMaster//Event Calendar 2.0//EN
METHOD:PUBLISH
X-PUBLISHED-TTL:P3D
REFRESH-INTERVAL:P3D
CALSCALE:GREGORIAN
BEGIN:VEVENT
DTSTART:20171118T150000Z
DTEND:20171118T220000Z
X-MICROSOFT-CDO-ALLDAYEVENT:FALSE
SUMMARY:Rotary Art and Craft Festival
DESCRIPTION:7th Annual Rotary Art and Craft Festival at Cranes Roost park in Uptown Altamonte.  The event includes KIDSKORNER\, Chili Cook Off\, Wine and Craft Beer Stroll\, and VIP dinner.  150 artists\, vendors\, and live (community)entertainment
X-ALT-DESC;FMTTYPE=text/html:7th Annual Rotary Art and Craft Festival at Cranes Roost park in Uptown Altamonte.&nbsp\; The event includes KIDSKORNER\, Chili Cook Off\, Wine and Craft Beer Stroll\, and VIP dinner.&nbsp\; 150 artists\, vendors\, and live (community)entertainment&nbsp\;<br />\n<br />\n<br />\n&nbsp\;
LOCATION:Cranes Roost Park\, Uptown Altamonte
UID:e.2138.8282
SEQUENCE:3
DTSTAMP:20260424T062020Z
URL:https://business.seminolebusiness.org/events/details/rotary-art-and-craft-festival-8282
END:VEVENT

END:VCALENDAR
