BEGIN:VCALENDAR
VERSION:2.0
PRODID:-//ChamberMaster//Event Calendar 2.0//EN
METHOD:PUBLISH
X-PUBLISHED-TTL:P3D
REFRESH-INTERVAL:P3D
CALSCALE:GREGORIAN
BEGIN:VEVENT
DTSTART:20261127T163000Z
DTEND:20261127T200000Z
X-MICROSOFT-CDO-ALLDAYEVENT:FALSE
SUMMARY:Sailing with Santa & Mrs Claus Lunch Cruise Aboard the Barbara Lee
DESCRIPTION:Sailing with Santa & Mrs. Claus Lunch Cruise Aboard the Barbara Lee.\n\n\n\nSkip the Black Friday crowds and trade long lines for sparkling river views aboard the beautiful Barbara Lee! Join us for a magical holiday lunch cruise along the scenic St. Johns River and Lake Monroe\, departing from Historic Downtown Sanford\, Florida.\n\n\n\nRelax in our enclosed\, climate-controlled dining room and enjoy a delicious full-course meal from appetizer to dessert served at your reserved table\, with your choice of entr e. A full cash bar will be available to add a little holiday cheer.\n\n\n\nSanta and Mrs. Claus will be onboard to hear Christmas wishes and pose for festive family photos\, so be sure to bring your camera! It's the perfect way to create magical memories with family and friends.\n\n\n\nFriday\, November 27\, 2026\n\nBoarding: 11:30 AM\n\nCruise: 12:00 PM   3:00 PM\n\n\n\nTickets are available online at RivershipTix.com or by calling 321-441-3030.\n\n\n\nLet us do the cooking while you relax\, celebrate\, and enjoy the spirit of the season on the water.
X-ALT-DESC;FMTTYPE=text/html:Sailing with Santa &amp\; Mrs. Claus Lunch Cruise Aboard the Barbara Lee.<br />\n<br />\nSkip the Black Friday crowds and trade long lines for sparkling river views aboard the beautiful Barbara Lee! Join us for a magical holiday lunch cruise along the scenic St. Johns River and Lake Monroe\, departing from Historic Downtown Sanford\, Florida.<br />\n<br />\nRelax in our enclosed\, climate-controlled dining room and enjoy a delicious full-course meal&mdash\;from appetizer to dessert&mdash\;served at your reserved table\, with your choice of entr&eacute\;e. A full cash bar will be available to add a little holiday cheer.<br />\n<br />\nSanta and Mrs. Claus will be onboard to hear Christmas wishes and pose for festive family photos\, so be sure to bring your camera! It&rsquo\;s the perfect way to create magical memories with family and friends.<br />\n<br />\nFriday\, November 27\, 2026<br />\nBoarding: 11:30 AM<br />\nCruise: 12:00 PM &ndash\; 3:00 PM<br />\n<br />\nTickets are available online at RivershipTix.com or by calling 321-441-3030.<br />\n<br />\nLet us do the cooking while you relax\, celebrate\, and enjoy the spirit of the season on the water.&nbsp\;
LOCATION:St Johns Rivership Co 433 N Palmetto Ave Sanford\, Florida 32771 321-441-3030 Free Parking
UID:e.2138.41859
SEQUENCE:3
DTSTAMP:20260422T190118Z
URL:https://business.seminolebusiness.org/events/details/sailing-with-santa-mrs-claus-lunch-cruise-aboard-the-barbara-lee-41859
END:VEVENT

END:VCALENDAR
