BEGIN:VCALENDAR
VERSION:2.0
PRODID:-//ChamberMaster//Event Calendar 2.0//EN
METHOD:PUBLISH
X-PUBLISHED-TTL:P3D
REFRESH-INTERVAL:P3D
CALSCALE:GREGORIAN
BEGIN:VEVENT
DTSTART:20160323T153000Z
DTEND:20160323T180000Z
X-MICROSOFT-CDO-ALLDAYEVENT:FALSE
SUMMARY:Saint Leo Open House at the Orlando Campus
DESCRIPTION:The Saint Leo University Orlando Campus will be hosting an open house open to all who are interested in furthering their education. We are also welcoming companies looking for an academic partnership.\n\n\n\nExpand your opportunities at Saint Leo's Orlando Education Center in Maitland\, FL  whether you're finishing a degree or starting a program to enhance your career.\n\n\n\nCome on by to see the school and enjoy the snacks and prizes. We can't wait to meet you!\n\n\n\nFebruary 25\, 2016 stop by any time between 11:30am   2:00pm \n\nRSVP: Jessica.Barnes@SaintLeo.edu
X-ALT-DESC;FMTTYPE=text/html:<span style="font-size:12px"><span style="font-family:tahoma"><font color="#003300">The Saint Leo University Orlando Campus will be hosting an open house open to all who are interested in furthering their education. We are also welcoming companies looking for an academic partnership.</font><br />\n<br />\nExpand your opportunities at Saint Leo&rsquo\;s Orlando Education Center in Maitland\, FL &mdash\;whether you&rsquo\;re finishing a degree or starting a program to enhance your career.<br />\n<br />\nCome on by to see the school and enjoy the snacks and prizes. W<span style="color:#003300">e can&rsquo\;t wait to meet you!</span><br />\n<br />\n<span style="color:#CC0000">February 25\, 2016 stop&nbsp\;</span><span style="color:#CC0000">by any time between 11:30am &ndash\; 2:00pm </span><br />\n<span style="color:#CC0000">RSVP: Jessica.Barnes@SaintLeo.edu</span></span></span><br />\n&nbsp\;
LOCATION:2290 Lucien Way\, Maitland\, FL 32751
UID:e.2138.4366
SEQUENCE:3
DTSTAMP:20260426T031343Z
URL:https://business.seminolebusiness.org/events/details/saint-leo-open-house-at-the-orlando-campus-03-23-2016-4366
END:VEVENT

END:VCALENDAR
