BEGIN:VCALENDAR
VERSION:2.0
PRODID:-//ChamberMaster//Event Calendar 2.0//EN
METHOD:PUBLISH
X-PUBLISHED-TTL:P3D
REFRESH-INTERVAL:P3D
CALSCALE:GREGORIAN
BEGIN:VEVENT
DTSTART:20161003T230000Z
DTEND:20161004T010000Z
X-MICROSOFT-CDO-ALLDAYEVENT:FALSE
SUMMARY:Sandra Cisneros
DESCRIPTION:Best known for her debut novel\, The House on Mango Street\, Sandra Cisneros is internationally known for her poetry and fiction. She has earned several awards for her work\, including the MacArthur Fellowship\, two National Endowment of the Arts Fellowships and a Texas Medal of the Arts. Cisneros is founder of Los MacArturos (the Latino MacArthur Fellows)\, the Macondo Foundation and the Alfredo Cisneros del Moral Foundation.   \n\n\n\nThe presentation will conclude with a Q&A period. A reception and book signing will immediately follow.\n\n\n\nThis event has been made possible in part by the National Endowment for the Humanities: Exploring the human endeavor. It is co-sponsored by Seminole State's Department of Humanities\, History & Modern Languages.
X-ALT-DESC;FMTTYPE=text/html:Best known for her debut novel\, The House on Mango Street\, Sandra Cisneros is internationally known for her poetry and fiction. She has earned several awards for her work\, including the MacArthur Fellowship\, two National Endowment of the Arts Fellowships and a Texas Medal of the Arts. Cisneros is founder of Los MacArturos (the Latino MacArthur Fellows)\, the Macondo Foundation and the Alfredo Cisneros del Moral Foundation. &nbsp\;&nbsp\;<br />\n<br />\nThe presentation will conclude with a Q&amp\;A period. A reception and book signing will immediately follow.<br />\n<br />\nThis event has been made possible in part by the National Endowment for the Humanities: Exploring the human endeavor. It is co-sponsored by Seminole State&#39\;s Department of Humanities\, History &amp\; Modern Languages.
LOCATION:Seminole State College - Sanford/Lake Mary Campus Fine Arts Concert Hall (building G)
UID:e.2138.4864
SEQUENCE:3
DTSTAMP:20260425T164719Z
URL:https://business.seminolebusiness.org/events/details/sandra-cisneros-10-03-2016-4864
END:VEVENT

END:VCALENDAR
