BEGIN:VCALENDAR
VERSION:2.0
PRODID:-//ChamberMaster//Event Calendar 2.0//EN
METHOD:PUBLISH
X-PUBLISHED-TTL:P3D
REFRESH-INTERVAL:P3D
CALSCALE:GREGORIAN
BEGIN:VEVENT
DTSTART:20170511T210000Z
DTEND:20170512T000000Z
X-MICROSOFT-CDO-ALLDAYEVENT:FALSE
SUMMARY:Sanford De Mayo ~ Alive After 5
DESCRIPTION:Sanford de Mayo is the May edition of Central Florida's longest-running monthly street festival\, Alive After 5\, and will take place Thursday\, May 11\, 2017 from 5:00   8:00 p.m. While the VIP experience is a ticketed event\, general admission to this street festival is free and includes access to a variety of vendors along Downtown Sanford's 1st Street. Guests can purchase Mexican treats from food vendors\, as well as meet local artists showcasing their handmade items in Artisan Alley. There will be special performances\, classes\, and demos by Salsa Rhythm\, free to the public. Families will also love the KidsZone\, which features a bounce house.\n\n\n\nTaco lovers and margarita fans will be thrilled to hear of a huge change to Alive After 5's annual Sanford de Mayo street festival! In addition to the bevy of live music and local vendors lining Downtown Sanford's 1st Street\, guests can say "hola" to the event's first-ever VIP experience\, designed and executed by a team of Sanford business owners and community leaders. VIP guests will enjoy an exclusive event space\, complete with endless tacos and margaritas crafted by local farm-to-table favorite\, The Smiling Bison.
X-ALT-DESC;FMTTYPE=text/html:<span style="color:rgb(102\, 106\, 115)\; font-family:benton sans\,helvetica neue\,helvetica\,roboto\,arial\,sans-serif\; font-size:15px">Sanford de Mayo is the May edition of Central Florida&rsquo\;s longest-running monthly street festival\, Alive After 5\, and will take place Thursday\, May 11\, 2017 from 5:00 &ndash\; 8:00 p.m. While the VIP experience is a ticketed event\, general admission to this street festival is free and includes access to a variety of vendors along Downtown Sanford&rsquo\;s 1st Street. Guests can purchase Mexican treats from food vendors\, as well as meet local artists showcasing their handmade items in Artisan Alley. There will be special performances\, classes\, and demos by Salsa Rhythm\, free to the public. Families will also love the KidsZone\, which features a bounce house.<br />\n<br />\nTaco lovers and margarita fans will be thrilled to hear of a huge change to Alive After 5&rsquo\;s annual Sanford de Mayo street festival! In addition to the bevy of live music and local vendors lining Downtown Sanford&rsquo\;s 1st Street\, guests can say &ldquo\;hola&rdquo\; to the event&rsquo\;s first-ever VIP experience\, designed and executed by a team of Sanford business owners and community leaders. VIP guests will enjoy an exclusive event space\, complete with <strong>endless tacos and margaritas</strong> crafted by local farm-to-table favorite\, The Smiling Bison.</span>
LOCATION:Historic Downtown Sanford 230 East 1st Street Sanford\, FL 32771
UID:e.2138.6736
SEQUENCE:3
DTSTAMP:20260423T210559Z
URL:https://business.seminolebusiness.org/events/details/sanford-de-mayo-alive-after-5-6736
END:VEVENT

END:VCALENDAR
