BEGIN:VCALENDAR
VERSION:2.0
PRODID:-//ChamberMaster//Event Calendar 2.0//EN
METHOD:PUBLISH
X-PUBLISHED-TTL:P3D
REFRESH-INTERVAL:P3D
CALSCALE:GREGORIAN
BEGIN:VEVENT
DTSTART:20190615T160000Z
DTEND:20190615T230000Z
X-MICROSOFT-CDO-ALLDAYEVENT:FALSE
SUMMARY:Sanford Orlando Kennel Club - Chicken Quarters on the Outdoor Smoker
DESCRIPTION:Join us for some outdoor smoking\, horse racing and live greyhound racing on Saturday\, 6/15
X-ALT-DESC;FMTTYPE=text/html:Join us for some outdoor smoking\, horse racing and live greyhound racing on Saturday\, 6/15
LOCATION:301 Dog Track Rd. Longwood\, FL 32750
UID:e.2138.15211
SEQUENCE:3
DTSTAMP:20260422T063601Z
URL:https://business.seminolebusiness.org/events/details/sanford-orlando-kennel-club-chicken-quarters-on-the-outdoor-smoker-15211
END:VEVENT

END:VCALENDAR
