BEGIN:VCALENDAR
VERSION:2.0
PRODID:-//ChamberMaster//Event Calendar 2.0//EN
METHOD:PUBLISH
X-PUBLISHED-TTL:P3D
REFRESH-INTERVAL:P3D
CALSCALE:GREGORIAN
BEGIN:VEVENT
DTSTART:20190723T200000Z
DTEND:20190724T000000Z
X-MICROSOFT-CDO-ALLDAYEVENT:FALSE
SUMMARY:Sanitas Job Fair
DESCRIPTION:We will be hosting a Job Fair in Central Florida! We invite you to share this information with anyone who is interested and meets the requirements! Bilingual highly preferred. Make sure to bring copies of your resume for on-site interviews.
X-ALT-DESC;FMTTYPE=text/html:We will be hosting a Job Fair in Central Florida! We invite you to share this information with anyone who is interested and meets the requirements! Bilingual highly preferred. Make sure to bring copies of your resume for on-site interviews.
LOCATION:258 South Chickasaw Trail. Suite 310 Orlando\, Fl 32825
UID:e.2138.16249
SEQUENCE:3
DTSTAMP:20260422T045601Z
URL:https://business.seminolebusiness.org/events/details/sanitas-job-fair-16249
END:VEVENT

END:VCALENDAR
