BEGIN:VCALENDAR
VERSION:2.0
PRODID:-//ChamberMaster//Event Calendar 2.0//EN
METHOD:PUBLISH
X-PUBLISHED-TTL:P3D
REFRESH-INTERVAL:P3D
CALSCALE:GREGORIAN
BEGIN:VEVENT
DTSTART:20181128T233000Z
DTEND:20181129T023000Z
X-MICROSOFT-CDO-ALLDAYEVENT:FALSE
SUMMARY:Santiago's Bodega Altamonte Springs Portugal Wine Dinner
DESCRIPTION:Join us for a delicious\, 5 course dinner paired with wines from Portugal.
X-ALT-DESC;FMTTYPE=text/html:Join us for a delicious\, 5 course dinner paired with wines from Portugal.<br />\n&nbsp\;
LOCATION:1185 Spring Centre S. Blvd\, #1080 Altamonte Springs\, FL 32714
UID:e.2138.14799
SEQUENCE:3
DTSTAMP:20260424T005902Z
URL:https://business.seminolebusiness.org/events/details/santiago-s-bodega-altamonte-springs-portugal-wine-dinner-14799
END:VEVENT

END:VCALENDAR
